BEGIN:VCALENDAR
PRODID:NingEventWidget-v1
VERSION:2.0
METHOD:PUBLISH
BEGIN:VTIMEZONE
TZID:Europe/London
X-LIC-LOCATION:Europe/London
BEGIN:DAYLIGHT
TZOFFSETFROM:+0000
TZOFFSETTO:+0100
TZNAME:BST
DTSTART:19700329T010000
RRULE:FREQ=YEARLY;BYMONTH=3;BYDAY=-1SU
END:DAYLIGHT
BEGIN:STANDARD
TZOFFSETFROM:+0100
TZOFFSETTO:+0000
TZNAME:GMT
DTSTART:19701025T020000
RRULE:FREQ=YEARLY;BYMONTH=10;BYDAY=-1SU
END:STANDARD
END:VTIMEZONE
BEGIN:VEVENT
UID:6278630:Event:140401
DTSTAMP:20260419T143913Z
SUMMARY:Odette Adams
DESCRIPTION:We are delighted to welcome the stunningly talented singer
 -songwriter Odette Adams and her band.\nAfter a very successful autumn
  2019 tour, Odette Adams is working hard to craft her second album, ā
 Longing To Know And Laughingā. The title track is an exciting, catc
 hy number and is Odetteās jazziest offering so far. It has been goin
 g down very well with audiences and sets the tone for the album overal
 l. Gigs this year are collaborative and Odette is working with excelle
 nt musicians who infuse sounds from across the world with her own. The
 y also share her passion for life and joy, which is critical for Odett
 e as she wants her shows to absolutely crackle with positive energyā¦
  and they do!\n\"Odette was sensational. Supported by her brilliant ba
 nd she sparkled and thrilled. I've now got her CD in my car, and I kee
 p making excuses to go for a spin in the country, big grin on my face.
  We can't wait to have Odette back!\" David Meredith, The Albany Theat
 re\nāWith her unique blend of uplifting, soulful jazz, Odette and he
 r band left our audience with broad smiles on their faces! They were a
  joy to work with and one of the most memorable gigs weāve had at Ri
 verhouse this season..ā Nigel Greenaway - Technical Manager, Riverho
 use Barn Arts Centre\nāWe had a lovely evening with the delightful O
 dette Adams last night. Another room fell in love with her infectious 
 spirit, voice & music. A great band & beautiful harmony with Kartik Ra
 ghunathan on Indian Classical Violin & vocals. Go & see them if you ge
 t the chanceā Annie Taylor, Annieās Jazz, Southend On Sea\n\nFor m
 ore information visit https://bowesandbounds.org/events/odette-adams
DTSTART;TZID=Europe/London:20200305T190000
DTEND;TZID=Europe/London:20200305T230000
CATEGORIES:music
LOCATION:KaramelN22
WEBSITE:https://www.musicglue.com/karamel/events/2020-03-05-odette-ada
 ms-karamel
URL:https://www.musicglue.com/karamel/events/2020-03-05-odette-adams-k
 aramel
CONTACT:
ORGANIZER;CN="Collage Arts":https://bowesandbounds.org/profile/Collage
 Arts105
ATTACH;FMTTYPE="image/jpeg":https://storage.ning.com/topology/rest/1.0
 /file/get/3859619684?profile=original
ATTENDEE;ROLE=REQ-PARTICIPANT;PARTSTAT=ACCEPTED;RSVP=TRUE;CN="Collage 
 Arts":https://bowesandbounds.org/profile/CollageArts105
END:VEVENT
END:VCALENDAR
