BEGIN:VCALENDAR
PRODID:NingEventWidget-v1
VERSION:2.0
METHOD:PUBLISH
BEGIN:VTIMEZONE
TZID:Europe/London
X-LIC-LOCATION:Europe/London
BEGIN:DAYLIGHT
TZOFFSETFROM:+0000
TZOFFSETTO:+0100
TZNAME:BST
DTSTART:19700329T010000
RRULE:FREQ=YEARLY;BYMONTH=3;BYDAY=-1SU
END:DAYLIGHT
BEGIN:STANDARD
TZOFFSETFROM:+0100
TZOFFSETTO:+0000
TZNAME:GMT
DTSTART:19701025T020000
RRULE:FREQ=YEARLY;BYMONTH=10;BYDAY=-1SU
END:STANDARD
END:VTIMEZONE
BEGIN:VEVENT
UID:6278630:Event:131342
DTSTAMP:20260425T000842Z
SUMMARY:Oka Vanga at Bowes Park Folk Club
DESCRIPTION:Award winning UK Folk & Roots music\nA distinctly classy, 
 guitar toting roots duo of serious accomplishment and musicality… hi
 ghly skilled.”  (fRoots Magazine)\nhttps://okavanga.com/\n“Oka V
 anga are an incredibly talented duo. The combination of Meyer’s voic
 e, which has the quality, clarity and strength of a fine, single malt 
 and Cox’s skill on his strings produces some absolutely magical song
 s and music which open hidden worlds and new adventures to all who lis
 ten to them. They are storytellers who illustrate their tales with won
 derful music.”  Folk All  \n'It’s a play on the Oka Vango delt
 a - a beautiful river delta in Botswana...Angie is from South Africa a
 nd we thought it had a nice ring to it!\"  \n£7 admission\nCome ear
 ly and enjoy Mum's Bistro's Mediterranean-inspired menu!\n\nFor more i
 nformation visit https://bowesandbounds.org/events/oka-vanga-at-bowes-
 park-folk-club
DTSTART;TZID=Europe/London:20180607T200000
DTEND;TZID=Europe/London:20180607T230000
CATEGORIES:folk, club
LOCATION:Mum's Bistro, Bowes Park, London N22 8NG
WEBSITE:http://www.bowesandbounds.org/groups
URL:http://www.bowesandbounds.org/groups
CONTACT:07774147296
ORGANIZER;CN="Anne Heagney":https://bowesandbounds.org/profile/AnneHea
 gney
ATTACH;FMTTYPE="image/jpeg":http://storage.ning.com/topology/rest/1.0/
 file/get/2287325112?profile=original
ATTENDEE;ROLE=REQ-PARTICIPANT;PARTSTAT=ACCEPTED;RSVP=TRUE;CN="Anne Hea
 gney":https://bowesandbounds.org/profile/AnneHeagney
END:VEVENT
END:VCALENDAR
