BEGIN:VCALENDAR
PRODID:NingEventWidget-v1
VERSION:2.0
METHOD:PUBLISH
BEGIN:VTIMEZONE
TZID:Europe/London
X-LIC-LOCATION:Europe/London
BEGIN:DAYLIGHT
TZOFFSETFROM:+0000
TZOFFSETTO:+0100
TZNAME:BST
DTSTART:19700329T010000
RRULE:FREQ=YEARLY;BYMONTH=3;BYDAY=-1SU
END:DAYLIGHT
BEGIN:STANDARD
TZOFFSETFROM:+0100
TZOFFSETTO:+0000
TZNAME:GMT
DTSTART:19701025T020000
RRULE:FREQ=YEARLY;BYMONTH=10;BYDAY=-1SU
END:STANDARD
END:VTIMEZONE
BEGIN:VEVENT
UID:6278630:Event:140870
DTSTAMP:20260420T020912Z
SUMMARY:Online Course: Inspire Your Writing with Sonia Lambert
DESCRIPTION:Please note: The Writing Room is delivering courses and gr
 oups remotely via Zoom video conference for the summer term due to the
  coronavirus outbreak.\nThursday mornings for 6 weeks, 10.30am to 1pm 
 April 23, 30, May 7, 14, 21, 28. Cost £125 (email kate@collage-arts.o
 rg to register and receive payment link)\nThis course is great for beg
 inners and also for writers at any level who wish to generate lots of 
 new ideas and material. This fun and playful course will use different
  creative writing exercises and prompts to get you working, in a frien
 dly and supportive environment. We will set out from a new starting po
 int each week, and experiment with different techniques and ways into 
 prose writing.\nWeek 1) Place (mental maps and sensory detail)Week 2) 
 People (picture prompts and character sketches)Week 3) ObjectsWeek 4) 
 FoodWeek 5) Gaps (collage and “found text”)Week 6) Journeys. All l
 evels welcome.\nSocial distancing and self-isolation are not incompati
 ble with writing. Shakespeare himself is rumoured to have written King
  Lear while quarantined. It can be helpful to write in challenging tim
 es and to be part of a friendly group, focusing on your writing or eng
 aging in a new creative writing course.Collage Writing Room’s Summer
  2020 programme is set to run online and our tutors are busily getting
  used to delivering courses via Zoom video link up. We will give you l
 ots of help setting this up. It is free for you to use. Your course is
  only a few clicks away! You don't have to be seen on screen if you ar
 e camera shy, and if you don't fancy tidying the house, we can show yo
 u how to choose a neutral backdrop! If you don't want to join the vide
 o side, tutors can send you the exercises/reading lists/feedback via e
 mail. We have been using the technology successfully to deliver all ou
 r options in the past few weeks. We hope you will join us after the Ea
 ster break.\nhttp://haringeyliteraturelive.com/summer-courses/\n\nFor 
 more information visit https://bowesandbounds.org/events/online-course
 -inspire-your-writing-with-sonia-lambert
DTSTART;TZID=Europe/London:20200423T103000
DTEND;TZID=Europe/London:20200528T130000
CATEGORIES:online, writing, course, creative, inspire, your, what, to,
  do, while, self-isolating, inspiration
LOCATION:Online from Collage Writing Room
WEBSITE:http://haringeyliteraturelive.com/summer-courses/
URL:http://haringeyliteraturelive.com/summer-courses/
CONTACT:
ORGANIZER:collagewritingroom@gmail.com
ATTACH;FMTTYPE="image/jpeg":https://storage.ning.com/topology/rest/1.0
 /file/get/4294296042?profile=original
ATTENDEE;ROLE=REQ-PARTICIPANT;PARTSTAT=ACCEPTED;RSVP=TRUE;CN="Carmel S
 hortall":https://bowesandbounds.org/profile/CarmelShortall
END:VEVENT
END:VCALENDAR
