BEGIN:VCALENDAR
PRODID:NingEventWidget-v1
VERSION:2.0
METHOD:PUBLISH
BEGIN:VTIMEZONE
TZID:Europe/London
X-LIC-LOCATION:Europe/London
BEGIN:DAYLIGHT
TZOFFSETFROM:+0000
TZOFFSETTO:+0100
TZNAME:BST
DTSTART:19700329T010000
RRULE:FREQ=YEARLY;BYMONTH=3;BYDAY=-1SU
END:DAYLIGHT
BEGIN:STANDARD
TZOFFSETFROM:+0100
TZOFFSETTO:+0000
TZNAME:GMT
DTSTART:19701025T020000
RRULE:FREQ=YEARLY;BYMONTH=10;BYDAY=-1SU
END:STANDARD
END:VTIMEZONE
BEGIN:VEVENT
UID:6278630:Event:237420
DTSTAMP:20260422T084048Z
SUMMARY:Online Talk: In Conversation - Stella Dadzie and Helen Bart
DESCRIPTION:Join Bruce Castle Museum's special online event with two d
 istinguished guests (who are both local residents) - writer, education
 alist, community activist and historian Stella Dadzie and Helen Bart, 
 senior television producer of 'Uprising' and other documentaries. They
  will be in conversation about Stella's recent book 'A Kick in the Bel
 ly: Women, Slavery & Resistance'.\nPublished by Verso, the book explor
 es the legacies of resistance and survival, highlighting the experienc
 es of enslaved women in the Anglo-Caribbean. Stella's research and foc
 us puts a narrative of empowerment and hope at the centre of the bruta
 l history of slavery.\nYou can book your place for this free online ta
 lk as well as find out more about the speakers by following the link o
 n Eventbrite: https://www.eventbrite.co.uk/e/online-talk-in-conversati
 on-stella-dadzie-helen-bart-tickets-184109465367 ;\n\nFor more inform
 ation visit https://bowesandbounds.org/events/online-talk-in-conversat
 ion-stella-dadzie-and-helen-bart
DTSTART;TZID=Europe/London:20211020T184500
DTEND;TZID=Europe/London:20211020T200000
CATEGORIES:"online event", "black history", "haringey history", "black
  history 365", "online history talk", "black history month haringey", 
 "black history month", "stella dadzie", "black feminism", "helen bart"
LOCATION:Online via Zoom
WEBSITE:http://www.haringey.gov.uk/brucecastlemuseum
URL:http://www.haringey.gov.uk/brucecastlemuseum
CONTACT:020 8489 4250
ORGANIZER;CN="Deborah Hedgecock":https://bowesandbounds.org/profile/De
 borahHedgecock
ATTACH;FMTTYPE="image/jpeg":https://storage.ning.com/topology/rest/1.0
 /file/get/9638849461?profile=original
ATTENDEE;ROLE=REQ-PARTICIPANT;PARTSTAT=ACCEPTED;RSVP=TRUE;CN="Deborah 
 Hedgecock":https://bowesandbounds.org/profile/DeborahHedgecock
END:VEVENT
END:VCALENDAR
