BEGIN:VCALENDAR
PRODID:NingEventWidget-v1
VERSION:2.0
METHOD:PUBLISH
BEGIN:VTIMEZONE
TZID:Europe/London
X-LIC-LOCATION:Europe/London
BEGIN:DAYLIGHT
TZOFFSETFROM:+0000
TZOFFSETTO:+0100
TZNAME:BST
DTSTART:19700329T010000
RRULE:FREQ=YEARLY;BYMONTH=3;BYDAY=-1SU
END:DAYLIGHT
BEGIN:STANDARD
TZOFFSETFROM:+0100
TZOFFSETTO:+0000
TZNAME:GMT
DTSTART:19701025T020000
RRULE:FREQ=YEARLY;BYMONTH=10;BYDAY=-1SU
END:STANDARD
END:VTIMEZONE
BEGIN:VEVENT
UID:6278630:Event:65297
DTSTAMP:20260425T195052Z
SUMMARY:Open Day Celebrating 25 Years of CUFOS
DESCRIPTION:\n\nFor more information visit https://bowesandbounds.org/
 events/open-day-celebrating-25-years-of-cufos
DTSTART;TZID=Europe/London:20130915T000000
DTEND;TZID=Europe/London:20130915T170000
CATEGORIES:party, "open day"
LOCATION:CUFOS
WEBSITE:http://www.cufos.org.uk/Where%20is%20Cufos.html
URL:http://www.cufos.org.uk/Where%20is%20Cufos.html
CONTACT:
ORGANIZER;CN=Administrator:https://bowesandbounds.org/profile/Administ
 rator
ATTACH;FMTTYPE="image/jpeg":http://storage.ning.com/topology/rest/1.0/
 file/get/2287253264?profile=original
ATTENDEE;ROLE=REQ-PARTICIPANT;PARTSTAT=ACCEPTED;RSVP=TRUE;CN=Administr
 ator:https://bowesandbounds.org/profile/Administrator
END:VEVENT
END:VCALENDAR
