BEGIN:VCALENDAR
PRODID:NingEventWidget-v1
VERSION:2.0
METHOD:PUBLISH
BEGIN:VTIMEZONE
TZID:Europe/London
X-LIC-LOCATION:Europe/London
BEGIN:DAYLIGHT
TZOFFSETFROM:+0000
TZOFFSETTO:+0100
TZNAME:BST
DTSTART:19700329T010000
RRULE:FREQ=YEARLY;BYMONTH=3;BYDAY=-1SU
END:DAYLIGHT
BEGIN:STANDARD
TZOFFSETFROM:+0100
TZOFFSETTO:+0000
TZNAME:GMT
DTSTART:19701025T020000
RRULE:FREQ=YEARLY;BYMONTH=10;BYDAY=-1SU
END:STANDARD
END:VTIMEZONE
BEGIN:VEVENT
UID:6278630:Event:57874
DTSTAMP:20260420T173408Z
SUMMARY:Open Garden: Russell Road - National Garden Scheme
DESCRIPTION:Described as a ‘poem for the eyes’, this garden is ope
 n for the National Gardens Scheme.  Weather permitting, there will be
  a splendid display of tulips, and other spring plants. \nThe garden 
 is at 5 RUSSELL ROAD, N13 4RS (just off Whittington Road).\nFor more i
 nformation, please see NGS website. Entry is £3.00, children free. Th
 ere are Teas available – the best locally, for a small extra cost. 
  \nALL proceeds go to the NGS for distribution to charity.  \nAlso 
 open is 94 Brownlow Road, N11.\n\nFor more information visit https://b
 owesandbounds.org/events/open-garden-ngs-1
DTSTART;TZID=Europe/London:20130428T140000
DTEND;TZID=Europe/London:20130428T180000
CATEGORIES:"open garden", ngs, gardening
LOCATION:5 Russell Road
WEBSITE:http://www.ngs.org.uk/gardens/gardenfinder/garden.aspx?id=2181
 3
URL:http://www.ngs.org.uk/gardens/gardenfinder/garden.aspx?id=21813
CONTACT:
ORGANIZER:
ATTACH;FMTTYPE="image/jpeg":http://storage.ning.com/topology/rest/1.0/
 file/get/2287232552?profile=original
ATTENDEE;ROLE=REQ-PARTICIPANT;PARTSTAT=ACCEPTED;RSVP=TRUE;CN=Administr
 ator:https://bowesandbounds.org/profile/Administrator
END:VEVENT
END:VCALENDAR
