BEGIN:VCALENDAR
PRODID:NingEventWidget-v1
VERSION:2.0
METHOD:PUBLISH
BEGIN:VTIMEZONE
TZID:Europe/London
X-LIC-LOCATION:Europe/London
BEGIN:DAYLIGHT
TZOFFSETFROM:+0000
TZOFFSETTO:+0100
TZNAME:BST
DTSTART:19700329T010000
RRULE:FREQ=YEARLY;BYMONTH=3;BYDAY=-1SU
END:DAYLIGHT
BEGIN:STANDARD
TZOFFSETFROM:+0100
TZOFFSETTO:+0000
TZNAME:GMT
DTSTART:19701025T020000
RRULE:FREQ=YEARLY;BYMONTH=10;BYDAY=-1SU
END:STANDARD
END:VTIMEZONE
BEGIN:VEVENT
UID:6278630:Event:64293
DTSTAMP:20260425T213340Z
SUMMARY:Open Garden: Russell Road - National Garden Scheme
DESCRIPTION:Described as a ‘poem for the eyes’, Full, generous pla
 nting. Billowing, overflowing, balanced by flat, open lawn, and airy, 
 dreamy planting in small woodland, a pebble garden marks the border. N
 ot manicured. Simple, unfussy with a contemporary feel, calm, quiet an
 d peaceful. Many spring plants and bulbs, many pots. Autumn is rusty, 
 looser and soft. A different pleasure. Golden in sunlight. New small b
 espoke greenhouse reminiscent of Dungeness and Hastings\nThe garden is
  at 5 RUSSELL ROAD, N13 4RS (just off Whittington Road).\nFor more inf
 ormation, please see NGS website. Entry is £3.00, children free. Ther
 e are Teas available – the best locally, for a small extra cost.  
 \nALL proceeds go to the NGS for distribution to charity.\n\nFor more 
 information visit https://bowesandbounds.org/events/open-garden-russel
 l-road-national-garden-scheme
DTSTART;TZID=Europe/London:20130908T140000
DTEND;TZID=Europe/London:20130908T180000
CATEGORIES:"open garden", ngs, gardening
LOCATION:5 Russell Road
WEBSITE:http://www.ngs.org.uk/gardens/gardenfinder/garden.aspx?id=2181
 3
URL:http://www.ngs.org.uk/gardens/gardenfinder/garden.aspx?id=21813
CONTACT:
ORGANIZER:
ATTACH;FMTTYPE="image/jpeg":http://storage.ning.com/topology/rest/1.0/
 file/get/2287232552?profile=original
ATTENDEE;ROLE=REQ-PARTICIPANT;PARTSTAT=ACCEPTED;RSVP=TRUE;CN=Administr
 ator:https://bowesandbounds.org/profile/Administrator
END:VEVENT
END:VCALENDAR
