BEGIN:VCALENDAR
PRODID:NingEventWidget-v1
VERSION:2.0
METHOD:PUBLISH
BEGIN:VTIMEZONE
TZID:Europe/London
X-LIC-LOCATION:Europe/London
BEGIN:DAYLIGHT
TZOFFSETFROM:+0000
TZOFFSETTO:+0100
TZNAME:BST
DTSTART:19700329T010000
RRULE:FREQ=YEARLY;BYMONTH=3;BYDAY=-1SU
END:DAYLIGHT
BEGIN:STANDARD
TZOFFSETFROM:+0100
TZOFFSETTO:+0000
TZNAME:GMT
DTSTART:19701025T020000
RRULE:FREQ=YEARLY;BYMONTH=10;BYDAY=-1SU
END:STANDARD
END:VTIMEZONE
BEGIN:VEVENT
UID:6278630:Event:136673
DTSTAMP:20260423T234302Z
SUMMARY:Open Garden
DESCRIPTION:5 minutes by train from Bowes Park, plus a short walk.\nEn
 joy the peace and tranquillity of our beautiful garden, discover the f
 ascinating history of the burial ground and Quaker Meeting House, and 
 find out more about Quakers today. Free entry and refreshments, plus a
  plant sale.\n    \n\nFor more information visit https://bowesandbo
 unds.org/events/open-garden
DTSTART;TZID=Europe/London:20190615T140000
DTEND;TZID=Europe/London:20190615T170000
CATEGORIES:open, garden
LOCATION:Winchmore Hill
WEBSITE:http://www.winchmorehillquakers.org.uk/
URL:http://www.winchmorehillquakers.org.uk/
CONTACT:
ORGANIZER;CN="Catharine Perry":https://bowesandbounds.org/profile/Cath
 arinePerry
ATTACH;FMTTYPE="image/jpeg":https://storage.ning.com/topology/rest/1.0
 /file/get/2287327974?profile=original
ATTENDEE;ROLE=REQ-PARTICIPANT;PARTSTAT=ACCEPTED;RSVP=TRUE;CN="Catharin
 e Perry":https://bowesandbounds.org/profile/CatharinePerry
END:VEVENT
END:VCALENDAR
