BEGIN:VCALENDAR
PRODID:NingEventWidget-v1
VERSION:2.0
METHOD:PUBLISH
BEGIN:VTIMEZONE
TZID:Europe/London
X-LIC-LOCATION:Europe/London
BEGIN:DAYLIGHT
TZOFFSETFROM:+0000
TZOFFSETTO:+0100
TZNAME:BST
DTSTART:19700329T010000
RRULE:FREQ=YEARLY;BYMONTH=3;BYDAY=-1SU
END:DAYLIGHT
BEGIN:STANDARD
TZOFFSETFROM:+0100
TZOFFSETTO:+0000
TZNAME:GMT
DTSTART:19701025T020000
RRULE:FREQ=YEARLY;BYMONTH=10;BYDAY=-1SU
END:STANDARD
END:VTIMEZONE
BEGIN:VEVENT
UID:6278630:Event:99553
DTSTAMP:20260425T023223Z
SUMMARY:Open House London - Christ Church Southgate & The Minchenden O
 ak Garden
DESCRIPTION:Christ Church Southgate and the Minchenden Oak Garden form
  part of Open House London.Explore our fine Grade II* listed church, d
 esigned by Sir George Gilbert Scott in the early English architectural
  style. Absorb the detail in our collection of beautiful Pre-Raphaelit
 e stained glass windows spanning 50 years of output from the studio of
  William Morris & Company, including designs by Burne Jones, Philip We
 bb and Rossetti, including a unique “self portrait” of William Mor
 ris himself.After touring the church, please visit The Minchenden Oak 
 Garden, next to the church, which contains one of the country’s olde
 st tress – an ancient pollarded oak more than 800 years old.The week
 end will conclude with a special service of Choral Evensong at 6.30pm 
 on Sunday. All are welcome to attend – budding choristers can “Com
 e and Sing”. \n\nSelf-guided tours of Christ Church and Minchenden 
 Oak throughout the weekend\nGuided tours on the hour\nActivities for c
 hildren\n“Come and Sing” Choral Evensong on Sunday at 6.30pm with 
 our fine choir.\n\nIn 2015 we celebrate our 400th Anniversary - the We
 ld Chapel, the precursor to our current building, was consecrated in M
 ay 1615. Contact the Parish Office to join our mailing list to keep up
  to date with future events marking this special anniversary of Southg
 ate’s Parish Church. Christ Church Southgate is Enfield's first “I
 nclusive Church”.\n\nFor more information visit https://bowesandboun
 ds.org/events/open-house-london-christ-church-southgate-the-minchenden
 -oak-1
DTSTART;TZID=Europe/London:20150919T110000
DTEND;TZID=Europe/London:20150920T193000
CATEGORIES:"open church", "open garden", "historical tours"
LOCATION:Christ Church Southgate
WEBSITE:http://www.christchurch-southgate.org
URL:http://www.christchurch-southgate.org
CONTACT:020 8886 0384
ORGANIZER;CN="Phillip Dawson":https://bowesandbounds.org/profile/Phill
 ipDawson
ATTACH;FMTTYPE="image/jpeg":http://storage.ning.com/topology/rest/1.0/
 file/get/2287271455?profile=original
ATTENDEE;ROLE=REQ-PARTICIPANT;PARTSTAT=ACCEPTED;RSVP=TRUE;CN="Phillip 
 Dawson":https://bowesandbounds.org/profile/PhillipDawson
END:VEVENT
END:VCALENDAR
