BEGIN:VCALENDAR
PRODID:NingEventWidget-v1
VERSION:2.0
METHOD:PUBLISH
BEGIN:VTIMEZONE
TZID:Europe/London
X-LIC-LOCATION:Europe/London
BEGIN:DAYLIGHT
TZOFFSETFROM:+0000
TZOFFSETTO:+0100
TZNAME:BST
DTSTART:19700329T010000
RRULE:FREQ=YEARLY;BYMONTH=3;BYDAY=-1SU
END:DAYLIGHT
BEGIN:STANDARD
TZOFFSETFROM:+0100
TZOFFSETTO:+0000
TZNAME:GMT
DTSTART:19701025T020000
RRULE:FREQ=YEARLY;BYMONTH=10;BYDAY=-1SU
END:STANDARD
END:VTIMEZONE
BEGIN:VEVENT
UID:6278630:Event:125626
DTSTAMP:20260424T185011Z
SUMMARY:Open Studios 2017
DESCRIPTION:We are putting the artists of Wood Green on the map!\nUnbe
 lievably this is the 21st Chocolate Factory N22 Open Studios and this 
 year it’s part of the new Love Wood Green Festival!\nThe Open Studio
 s map shows 3 studio buildings Chocolate Factory 1, 2 and 3 where over
  100 artists are opening their doors. We also have exhibitions of port
 raits by Michelle Eva May at Karamel, and abstract paintings by Joanna
  Wilkinson at The Green Rooms in Station Road, Wood Green N22.\nThe st
 udios in Chocolate Factory 1-3 are home to painters, print-makers, pho
 tographers, designer-maker, jewellers, sculptors and ceramists. So, wh
 ether you are looking to liven-up your wardrobe or your living space, 
 you need to check out the talent in Wood Green.\nCollage Arts, the pro
 moter of the N22 Open Studios and Love Wood Green Festival, has been a
 t the cornerstone of the Wood Green Cultural Quarter for over 30 years
 . During this time they have created opportunities for thousands or cr
 eative people to get established. The latest programs show how diversi
 ty has been indelible etched on the ethos.\nMaking Creativity Work sup
 ports young people with a passion for fashion. Create Your Future is w
 orking with a group of Kurdish Women to turn their textile skills into
  enterprises. You can see what they have produced in the market stalls
  at Studio 28. If you think that the stalls look opulent it is because
  they will form part of the set for our spectacular Great Gatsby Chris
 tmas Party – you will not want to miss that.\nOur inclusive programs
  are central to making Wood Green work for everyone …Enjoy the Open 
 Studios and Love Wood Green!\nFREE & FAMILY FRIENDLYwww.N22OpenStudios
 .com\n\nLove Wood Green Festival! Featuring the 21st annual N22 Open S
 tudios, studios, stalls, art exhibitions – Now part of four days of 
 live music, dance workshops, childrens’ theatre and more… Wednesda
 y 20 September to Sunday 24 September 2017.\n\nFor more information vi
 sit https://bowesandbounds.org/events/open-studios-2017
DTSTART;TZID=Europe/London:20170923T120000
DTEND;TZID=Europe/London:20170924T180000
CATEGORIES:"'open", "studios'", "'karamel'", "'n22", "artists'", "'art
 '", "'exhibition'", "'music'", "'family'", "'events'", open
LOCATION:Karamel
WEBSITE:http://www.karamel.london
URL:http://www.karamel.london
CONTACT:0208 365 7500
ORGANIZER;CN="Events at Karamel":https://bowesandbounds.org/profile/Ph
 ilSherman
ATTACH;FMTTYPE="image/jpeg":http://storage.ning.com/topology/rest/1.0/
 file/get/2287321811?profile=original
ATTENDEE;ROLE=REQ-PARTICIPANT;PARTSTAT=ACCEPTED;RSVP=TRUE;CN="Events a
 t Karamel":https://bowesandbounds.org/profile/PhilSherman
END:VEVENT
END:VCALENDAR
