BEGIN:VCALENDAR
PRODID:NingEventWidget-v1
VERSION:2.0
METHOD:PUBLISH
BEGIN:VTIMEZONE
TZID:Europe/London
X-LIC-LOCATION:Europe/London
BEGIN:DAYLIGHT
TZOFFSETFROM:+0000
TZOFFSETTO:+0100
TZNAME:BST
DTSTART:19700329T010000
RRULE:FREQ=YEARLY;BYMONTH=3;BYDAY=-1SU
END:DAYLIGHT
BEGIN:STANDARD
TZOFFSETFROM:+0100
TZOFFSETTO:+0000
TZNAME:GMT
DTSTART:19701025T020000
RRULE:FREQ=YEARLY;BYMONTH=10;BYDAY=-1SU
END:STANDARD
END:VTIMEZONE
BEGIN:VEVENT
UID:6278630:Event:85781
DTSTAMP:20260419T135009Z
SUMMARY:Palmers Green Christmas Lights Switched ON
DESCRIPTION:Crowds will gather around the Palmers Green Clock\nThe Ch
 ristmas Lights will then be switched on by David Burrowes MP; and the 
 public will be invited to join the combined Hazelwood Schools Choir t
 o sing a variety of festive carols. Free mince pies on offer to early 
 comers while stocks last\nVenue easily accessible by public transport 
 bus routes 121, 329 and W6 and to/from Palmers Green Station. Local tr
 affic liable to disruption\n\nFor more information visit https://bowes
 andbounds.org/events/palmers-green-christmas-lights-switched-on
DTSTART;TZID=Europe/London:20141113T153000
DTEND;TZID=Europe/London:20141113T160000
CATEGORIES:christmas, lights
LOCATION:Palmers Green, Triangle
WEBSITE:http://www.enfieldfestivals.com/event/details/palmers-green-ch
 ristmas-lights/
URL:http://www.enfieldfestivals.com/event/details/palmers-green-christ
 mas-lights/
CONTACT:020 8882 7888
ORGANIZER;CN="Donald Smith":https://bowesandbounds.org/profile/DonaldS
 mith
ATTACH;FMTTYPE="image/jpeg":http://storage.ning.com/topology/rest/1.0/
 file/get/2287273467?profile=original
ATTENDEE;ROLE=REQ-PARTICIPANT;PARTSTAT=TENTATIVE;RSVP=TRUE;CN="Donald 
 Smith":https://bowesandbounds.org/profile/DonaldSmith
END:VEVENT
END:VCALENDAR
