BEGIN:VCALENDAR
PRODID:NingEventWidget-v1
VERSION:2.0
METHOD:PUBLISH
BEGIN:VTIMEZONE
TZID:Europe/London
X-LIC-LOCATION:Europe/London
BEGIN:DAYLIGHT
TZOFFSETFROM:+0000
TZOFFSETTO:+0100
TZNAME:BST
DTSTART:19700329T010000
RRULE:FREQ=YEARLY;BYMONTH=3;BYDAY=-1SU
END:DAYLIGHT
BEGIN:STANDARD
TZOFFSETFROM:+0100
TZOFFSETTO:+0000
TZNAME:GMT
DTSTART:19701025T020000
RRULE:FREQ=YEARLY;BYMONTH=10;BYDAY=-1SU
END:STANDARD
END:VTIMEZONE
BEGIN:VEVENT
UID:6278630:Event:245768
DTSTAMP:20260420T031627Z
SUMMARY:Palmers Green Community Hub
DESCRIPTION:\n\nEnfield Climate Action Forum together with LocalMotion
  is a social, economic and environmental justice movement and the Co-o
 p Member Engagement Team is holding a Community Hub On November 18th.\
 n\nFollowing a survey in which over 500 local people responded we will
  be addressing issues like\n\nWellbeing Interfaith & Climate Change En
 vironment Employment Cost of Living Homes & Urban Environment Food Ban
 k - A Project by Young People Climate Change & COP28\n\nWe will hold a
  series of discussions to see how the community can work together to a
 ddress these issues and decide what follow up action is needed.\n\nSo 
 come along for the whole afternoon or pop into any session that intere
 sts you.\n\nFor more information visit https://bowesandbounds.org/even
 ts/palmers-green-community-hub
DTSTART;TZID=Europe/London:20231118T131500
DTEND;TZID=Europe/London:20231118T180000
CATEGORIES:networking, event
LOCATION:Palmers Green Mosque
WEBSITE:
URL:
CONTACT:
ORGANIZER;CN="Francis Sealey":https://bowesandbounds.org/profile/Franc
 isSealey942
ATTACH;FMTTYPE="image/jpeg":https://storage.ning.com/topology/rest/1.0
 /file/get/12289523252?profile=original
ATTENDEE;ROLE=REQ-PARTICIPANT;PARTSTAT=ACCEPTED;RSVP=TRUE;CN="Francis 
 Sealey":https://bowesandbounds.org/profile/FrancisSealey942
END:VEVENT
END:VCALENDAR
