BEGIN:VCALENDAR
PRODID:NingEventWidget-v1
VERSION:2.0
METHOD:PUBLISH
BEGIN:VTIMEZONE
TZID:Europe/London
X-LIC-LOCATION:Europe/London
BEGIN:DAYLIGHT
TZOFFSETFROM:+0000
TZOFFSETTO:+0100
TZNAME:BST
DTSTART:19700329T010000
RRULE:FREQ=YEARLY;BYMONTH=3;BYDAY=-1SU
END:DAYLIGHT
BEGIN:STANDARD
TZOFFSETFROM:+0100
TZOFFSETTO:+0000
TZNAME:GMT
DTSTART:19701025T020000
RRULE:FREQ=YEARLY;BYMONTH=10;BYDAY=-1SU
END:STANDARD
END:VTIMEZONE
BEGIN:VEVENT
UID:6278630:Event:79870
DTSTAMP:20260424T133930Z
SUMMARY:Palmers Green Shopping Festival
DESCRIPTION:The Green Lanes Business Association is staging their  an
 nual Palmers Green Shopping Festival.\nA fun-packed day for all the fa
 mily: live street theatre, music, poetry,  children's rides and infla
 tables, games and song and dance from local schools and community grou
 ps.\n\n\nFor more information visit https://bowesandbounds.org/events/
 palmers-green-shopping-festival-2
DTSTART;TZID=Europe/London:20140705T000000
DTEND;TZID=Europe/London:20140705T235900
CATEGORIES:festival, "#ccc"
LOCATION:\"Palmers Green\"
WEBSITE:http://maps.google.co.uk/maps?hl=&q=palmers+green&sourceid=nav
 client-ff&rlz=1B3MOZA_en-GBGB361GB361&ie=UTF-8
URL:http://maps.google.co.uk/maps?hl=&q=palmers+green&sourceid=navclie
 nt-ff&rlz=1B3MOZA_en-GBGB361GB361&ie=UTF-8
CONTACT:
ORGANIZER:Green Lanes Business Association
ATTACH;FMTTYPE="image/jpeg":http://storage.ning.com/topology/rest/1.0/
 file/get/2063511189?profile=original
ATTENDEE;ROLE=REQ-PARTICIPANT;PARTSTAT=ACCEPTED;RSVP=TRUE;CN="Richard 
 McKeever":https://bowesandbounds.org/profile/3hwxkqhdde8gc
END:VEVENT
END:VCALENDAR
