BEGIN:VCALENDAR
PRODID:NingEventWidget-v1
VERSION:2.0
METHOD:PUBLISH
BEGIN:VTIMEZONE
TZID:Europe/London
X-LIC-LOCATION:Europe/London
BEGIN:DAYLIGHT
TZOFFSETFROM:+0000
TZOFFSETTO:+0100
TZNAME:BST
DTSTART:19700329T010000
RRULE:FREQ=YEARLY;BYMONTH=3;BYDAY=-1SU
END:DAYLIGHT
BEGIN:STANDARD
TZOFFSETFROM:+0100
TZOFFSETTO:+0000
TZNAME:GMT
DTSTART:19701025T020000
RRULE:FREQ=YEARLY;BYMONTH=10;BYDAY=-1SU
END:STANDARD
END:VTIMEZONE
BEGIN:VEVENT
UID:6278630:Event:71376
DTSTAMP:20260425T165028Z
SUMMARY:Palmers Green & Southgate U3A
DESCRIPTION:No longer in full-time work? Want to share an interest wit
 h people like yourself? Open Meeting to launch a new U3A (University o
 f the Third Age)\nThe Intimate Theatre, 521 Green Lanes Palmers Green 
 N13 4DH\nWednesday 26th February  2.30 pm  Doors open 2pm\nALL WELCOME
  Enquiries: 020 8886 3773 / 07828 646431 email: newu3a@gmail.com\nWWW.
 U3A.ORG.UK\n\nFor more information visit https://bowesandbounds.org/ev
 ents/palmers-green-southgate-u3a
DTSTART;TZID=Europe/London:20140226T143000
DTEND;TZID=Europe/London:20140226T160000
CATEGORIES:open, meeting, education
LOCATION:The Intimate Theatre
WEBSITE:
URL:
CONTACT:020 8886 3773
ORGANIZER;CN="Frances Halliday":https://bowesandbounds.org/profile/Fra
 ncesHalliday
ATTACH;FMTTYPE="image/jpeg":http://storage.ning.com/topology/rest/1.0/
 file/get/2287258273?profile=original
ATTENDEE;ROLE=REQ-PARTICIPANT;PARTSTAT=ACCEPTED;RSVP=TRUE;CN="Frances 
 Halliday":https://bowesandbounds.org/profile/FrancesHalliday
END:VEVENT
END:VCALENDAR
