BEGIN:VCALENDAR
PRODID:NingEventWidget-v1
VERSION:2.0
METHOD:PUBLISH
BEGIN:VTIMEZONE
TZID:Europe/London
X-LIC-LOCATION:Europe/London
BEGIN:DAYLIGHT
TZOFFSETFROM:+0000
TZOFFSETTO:+0100
TZNAME:BST
DTSTART:19700329T010000
RRULE:FREQ=YEARLY;BYMONTH=3;BYDAY=-1SU
END:DAYLIGHT
BEGIN:STANDARD
TZOFFSETFROM:+0100
TZOFFSETTO:+0000
TZNAME:GMT
DTSTART:19701025T020000
RRULE:FREQ=YEARLY;BYMONTH=10;BYDAY=-1SU
END:STANDARD
END:VTIMEZONE
BEGIN:VEVENT
UID:6278630:Event:246946
DTSTAMP:20260419T175356Z
SUMMARY:Patchwork Workshop: Learn to sew a Dresden Plate, Saturday 20t
 h April, 10:30-2:30 £80.00
DESCRIPTION:Join us at Stitch with the wonderful Susan and Pat for a d
 ay of patchwork.\nIn this workshop you will be learning how to sew the
  Dresden Plate Pattern - a classic pattern that makes quite a statemen
 t!\nThis is a pattern that has been used for over a century. Dresden p
 late Patchwork is an ideal way to use up the scraps that you have lyin
 g around. You can use a monochromatic scheme or a rainbow of colours, 
 what ever you may have available. There are several methods of stitchi
 ng this beautiful design.\nIn this course you will learn how to cut ac
 curately and put together your Dresden plate depending on the size, yo
 u can then take this very versatile design and applique it to make a b
 ag, cushion cover or even a quilt.\nThis is an intermediate course so 
 participants should have a basic knowledge of using a rotary cutter an
 d sewing ¼ inch seams.\nWhat you need to bring\nYou can bring fabric 
 from your own stash or choose or buy fabric from the shop. All equipme
 nt is provided during the class and we use Janome sewing machines.\nCL
 ASS SIZE: 6 maximum\nCOST: £80\nDURATION: 4 hours (with half an hour 
 lunch break)\nDATE & TIME: Saturday 20th April, 10:30-2:30\nLOCATION: 
 2 Hazelwood Lane, Palmers Green, N13 5EX\nREFRESHMENTS & BISCUITS PROV
 IDED!\nPlease ensure you have read fully our terms and conditions.\n\n
 \n\n\n\n\nFor more information visit https://bowesandbounds.org/events
 /patchwork-workshop-learn-to-sew-a-dresden-plate-saturday-20th
DTSTART;TZID=Europe/London:20240420T103000
DTEND;TZID=Europe/London:20240420T153000
CATEGORIES:sewing, class
LOCATION:2 Hazelwood Lane, Palmers Green N13 5EX
WEBSITE:https://www.stitch.org.uk/
URL:https://www.stitch.org.uk/
CONTACT:07903 614726
ORGANIZER;CN="Suzanne Kelly":https://bowesandbounds.org/profile/Suzann
 eKelly
ATTACH;FMTTYPE="image/jpeg":https://storage.ning.com/topology/rest/1.0
 /file/get/12421309260?profile=original
ATTENDEE;ROLE=REQ-PARTICIPANT;PARTSTAT=ACCEPTED;RSVP=TRUE;CN="Suzanne 
 Kelly":https://bowesandbounds.org/profile/SuzanneKelly
END:VEVENT
END:VCALENDAR
