BEGIN:VCALENDAR
PRODID:NingEventWidget-v1
VERSION:2.0
METHOD:PUBLISH
BEGIN:VTIMEZONE
TZID:Europe/London
X-LIC-LOCATION:Europe/London
BEGIN:DAYLIGHT
TZOFFSETFROM:+0000
TZOFFSETTO:+0100
TZNAME:BST
DTSTART:19700329T010000
RRULE:FREQ=YEARLY;BYMONTH=3;BYDAY=-1SU
END:DAYLIGHT
BEGIN:STANDARD
TZOFFSETFROM:+0100
TZOFFSETTO:+0000
TZNAME:GMT
DTSTART:19701025T020000
RRULE:FREQ=YEARLY;BYMONTH=10;BYDAY=-1SU
END:STANDARD
END:VTIMEZONE
BEGIN:VEVENT
UID:6278630:Event:253133
DTSTAMP:20260420T183220Z
SUMMARY:People's Emergency Briefing film community screening
DESCRIPTION:What’s happening with climate and nature, and what does 
 it mean for everyday life in the UK?\n\n\nJoin us for a screening of t
 he People’s Emergency Briefing - an eye-opening film bringing togeth
 er nine leading UK scientists and experts with the latest evidence and
  why it matters for Extreme weather, Food security, Health, Cost of l
 iving … and more.\nThe film is based on the National Emergency Brief
 ing in Westminster (featured by ITV, Channel 4 and The Times) with app
 earances from Chris Packham, Deborah Meaden, and a range of voices fro
 m across the UK.\nAfter the film there will be an open discussion abou
 t what it means for our community and what we can do locally.\nSeats a
 re free but limited, so please book in advance here. \nFor ages 16+ |
  refreshments available\n\n\nFor more information visit https://bowesa
 ndbounds.org/events/people-s-emergency-briefing-film-community-screeni
 ng
DTSTART;TZID=Europe/London:20260514T193000
DTEND;TZID=Europe/London:20260514T210000
CATEGORIES:free, community, film, screening
LOCATION:Muswell Hill Methodist Church
WEBSITE:https://wegottickets.com/f/17312/
URL:https://wegottickets.com/f/17312/
CONTACT:07968963456
ORGANIZER;CN="Lisa Jones":https://bowesandbounds.org/profile/LisaJones
 508
ATTACH;FMTTYPE="image/jpeg":https://storage.ning.com/topology/rest/1.0
 /file/get/31125779469?profile=original
ATTENDEE;ROLE=REQ-PARTICIPANT;PARTSTAT=ACCEPTED;RSVP=TRUE;CN="Lisa Jon
 es":https://bowesandbounds.org/profile/LisaJones508
END:VEVENT
END:VCALENDAR
