BEGIN:VCALENDAR
PRODID:NingEventWidget-v1
VERSION:2.0
METHOD:PUBLISH
BEGIN:VTIMEZONE
TZID:Europe/London
X-LIC-LOCATION:Europe/London
BEGIN:DAYLIGHT
TZOFFSETFROM:+0000
TZOFFSETTO:+0100
TZNAME:BST
DTSTART:19700329T010000
RRULE:FREQ=YEARLY;BYMONTH=3;BYDAY=-1SU
END:DAYLIGHT
BEGIN:STANDARD
TZOFFSETFROM:+0100
TZOFFSETTO:+0000
TZNAME:GMT
DTSTART:19701025T020000
RRULE:FREQ=YEARLY;BYMONTH=10;BYDAY=-1SU
END:STANDARD
END:VTIMEZONE
BEGIN:VEVENT
UID:6278630:Event:82862
DTSTAMP:20260422T212820Z
SUMMARY:People's March from Jarrow to London reaches Enfield
DESCRIPTION:The Jarrow 999 Call for the NHS march will reach Enfield 
 on Friday 5th September. The marchers will be setting out from St Alba
 ns to reach Edmonton about 5:30 pm where there will be a rally in Broa
 d House in Fore Street.\nOn Friday the march will reach Palmers Green 
 and Edmonton via Chipping Barnet, New Barnet, East Barnet, New Southga
 te and Arnos Grove station.  It will pass along Bowes Road, Clockhous
 e Junction, the Cambridge Roundabout, Silver Street, Angel Corner and 
 finish at Broad House in Fore Street. \nEnfield Alliance Against the 
 Cuts will be waiting to applaud the march as it arrives outside North
  Middlesex Hospital (gathering by 5pm), on the North Circular where St
 erling Way meets Bull Lane, before carrying on to the rally in Broad H
 ouse.\nThis new Jarrow March is a very important defence of a free, pu
 blic NHS, so all support that can be given to it is very valuable, so 
 join the march on Saturday in central London too, if you can.\n\nEnfie
 ld Alliance Against the Cuts\nJarrow-London 999 call for the NHS\n\n\n
 For more information visit https://bowesandbounds.org/events/people-s-
 march-from-jarrow-to-london-reaches-enfield
DTSTART;TZID=Europe/London:20140905T160000
DTEND;TZID=Europe/London:20140905T190000
CATEGORIES:demonstration, march
LOCATION:Jarrow - London
WEBSITE:http://enfieldagainstcuts.co.uk/
URL:http://enfieldagainstcuts.co.uk/
CONTACT:
ORGANIZER;CN="John Mellor":https://bowesandbounds.org/profile/JohnMell
 or
ATTACH;FMTTYPE="image/jpeg":http://storage.ning.com/topology/rest/1.0/
 file/get/2287270684?profile=original
ATTENDEE;ROLE=REQ-PARTICIPANT;PARTSTAT=ACCEPTED;RSVP=TRUE;CN="John Mel
 lor":https://bowesandbounds.org/profile/JohnMellor
END:VEVENT
END:VCALENDAR
