BEGIN:VCALENDAR
PRODID:NingEventWidget-v1
VERSION:2.0
METHOD:PUBLISH
BEGIN:VTIMEZONE
TZID:Europe/London
X-LIC-LOCATION:Europe/London
BEGIN:DAYLIGHT
TZOFFSETFROM:+0000
TZOFFSETTO:+0100
TZNAME:BST
DTSTART:19700329T010000
RRULE:FREQ=YEARLY;BYMONTH=3;BYDAY=-1SU
END:DAYLIGHT
BEGIN:STANDARD
TZOFFSETFROM:+0100
TZOFFSETTO:+0000
TZNAME:GMT
DTSTART:19701025T020000
RRULE:FREQ=YEARLY;BYMONTH=10;BYDAY=-1SU
END:STANDARD
END:VTIMEZONE
BEGIN:VEVENT
UID:6278630:Event:111602
DTSTAMP:20260419T161258Z
SUMMARY:Pete McAllen in Concert
DESCRIPTION:Pete McAllen is an independent artist based in Cambridge, 
 UK. He has been writing and performing since 2004 and this journey has
  taken him to countries including USA, New Zealand, Uganda, India, Mex
 ico, and Poland. Pete is on tour at moment performing his latest album
  'I Hear His Voice' and would be performing live in a free concert at 
 'Riverside'.\nCheck his website: www.petemcallen.org\n\nFor more infor
 mation visit https://bowesandbounds.org/events/pete-mcallen-in-concert
DTSTART;TZID=Europe/London:20160423T193000
DTEND;TZID=Europe/London:20160423T213000
CATEGORIES:concert
LOCATION:Riverside Community Church
WEBSITE:http://www.riversidelccelim.org.uk
URL:http://www.riversidelccelim.org.uk
CONTACT:020 8888 7181
ORGANIZER;CN="Bediako Bosque-Hamilton (Parson)":https://bowesandbounds
 .org/profile/BediakoBosqueHamiltonRev
ATTACH;FMTTYPE="image/jpeg":http://storage.ning.com/topology/rest/1.0/
 file/get/2287306133?profile=original
ATTENDEE;ROLE=REQ-PARTICIPANT;PARTSTAT=ACCEPTED;RSVP=TRUE;CN="Bediako 
 Bosque-Hamilton (Parson)":https://bowesandbounds.org/profile/BediakoBo
 squeHamiltonRev
END:VEVENT
END:VCALENDAR
