BEGIN:VCALENDAR
PRODID:NingEventWidget-v1
VERSION:2.0
METHOD:PUBLISH
BEGIN:VTIMEZONE
TZID:Europe/London
X-LIC-LOCATION:Europe/London
BEGIN:DAYLIGHT
TZOFFSETFROM:+0000
TZOFFSETTO:+0100
TZNAME:BST
DTSTART:19700329T010000
RRULE:FREQ=YEARLY;BYMONTH=3;BYDAY=-1SU
END:DAYLIGHT
BEGIN:STANDARD
TZOFFSETFROM:+0100
TZOFFSETTO:+0000
TZNAME:GMT
DTSTART:19701025T020000
RRULE:FREQ=YEARLY;BYMONTH=10;BYDAY=-1SU
END:STANDARD
END:VTIMEZONE
BEGIN:VEVENT
UID:6278630:Event:120632
DTSTAMP:20260425T005658Z
SUMMARY:Pete Morton at Bowes Park Folk Club
DESCRIPTION:All are welcome at the monthly folk club, 8-10.30pm, on th
 e first Thursday at Mum's Bistro, 143 Myddleton Road, N22 8NG. Admissi
 on charge is £7.\nWelcome Pete Morton the modern-day troubadour is b
 ack in town!  Singer-songwriter Pete’s heady brew of contemporary f
 olk is infused with love, politics, and human insight. The steel hand 
 of social outrage is wrapped in a velvet glove of humour and romantic 
 sensitivity, while his ‘folk-raps’ are a tour de force! \n‘He c
 an rhyme and chime like Eminem, and that ain’t no crime and he’s o
 f his time..’\n\nPete Morton Website\n\n\n\n\nFor more information v
 isit https://bowesandbounds.org/events/pete-morton-at-bowes-park-folk-
 club
DTSTART;TZID=Europe/London:20170202T200000
DTEND;TZID=Europe/London:20170202T223000
CATEGORIES:"folk club"
LOCATION:Mums Bistro
WEBSITE:http://www.petemorton.com/
URL:http://www.petemorton.com/
CONTACT:
ORGANIZER:Bowes Park Folk Club
ATTACH;FMTTYPE="image/jpeg":http://storage.ning.com/topology/rest/1.0/
 file/get/2287317334?profile=original
ATTENDEE;ROLE=REQ-PARTICIPANT;PARTSTAT=ACCEPTED;RSVP=TRUE;CN="Richard 
 McKeever":https://bowesandbounds.org/profile/3hwxkqhdde8gc
END:VEVENT
END:VCALENDAR
