BEGIN:VCALENDAR
PRODID:NingEventWidget-v1
VERSION:2.0
METHOD:PUBLISH
BEGIN:VTIMEZONE
TZID:Europe/London
X-LIC-LOCATION:Europe/London
BEGIN:DAYLIGHT
TZOFFSETFROM:+0000
TZOFFSETTO:+0100
TZNAME:BST
DTSTART:19700329T010000
RRULE:FREQ=YEARLY;BYMONTH=3;BYDAY=-1SU
END:DAYLIGHT
BEGIN:STANDARD
TZOFFSETFROM:+0100
TZOFFSETTO:+0000
TZNAME:GMT
DTSTART:19701025T020000
RRULE:FREQ=YEARLY;BYMONTH=10;BYDAY=-1SU
END:STANDARD
END:VTIMEZONE
BEGIN:VEVENT
UID:6278630:Event:138469
DTSTAMP:20260421T144559Z
SUMMARY:Pete Morton's 'So this is Christmas' at Bowes Park Folk Club
DESCRIPTION:Pete brings his unique mix of social comment, humour, poli
 tics, love and personal insight - all delivered with a powerful voice
  and stage presence. Let's see what he sings about Christmas!\nRaffle 
 and delicious Mediterranean-inspired Mum's \nBistro menu. Bounds Gree
 n tube (Piccadilly Line) - 10minutes' walk Bowes Park overground stati
 on - 1 minute's walk\n£7entry                    
                                    
                                    
       \n\nFor more information visit https://bowesandbounds.org/
 events/pete-morton-s-so-this-is-christmas-at-bowes-park-folk-club
DTSTART;TZID=Europe/London:20191205T194500
DTEND;TZID=Europe/London:20191205T230000
CATEGORIES:folk, "music/singing"
LOCATION:Mum's Bistro,
WEBSITE:
URL:
CONTACT:07774147296
ORGANIZER;CN="Anne Heagney":https://bowesandbounds.org/profile/AnneHea
 gney
ATTACH;FMTTYPE="image/jpeg":https://storage.ning.com/topology/rest/1.0
 /file/get/2287330115?profile=original
ATTENDEE;ROLE=REQ-PARTICIPANT;PARTSTAT=ACCEPTED;RSVP=TRUE;CN="Anne Hea
 gney":https://bowesandbounds.org/profile/AnneHeagney
END:VEVENT
END:VCALENDAR
