BEGIN:VCALENDAR
PRODID:NingEventWidget-v1
VERSION:2.0
METHOD:PUBLISH
BEGIN:VTIMEZONE
TZID:Europe/London
X-LIC-LOCATION:Europe/London
BEGIN:DAYLIGHT
TZOFFSETFROM:+0000
TZOFFSETTO:+0100
TZNAME:BST
DTSTART:19700329T010000
RRULE:FREQ=YEARLY;BYMONTH=3;BYDAY=-1SU
END:DAYLIGHT
BEGIN:STANDARD
TZOFFSETFROM:+0100
TZOFFSETTO:+0000
TZNAME:GMT
DTSTART:19701025T020000
RRULE:FREQ=YEARLY;BYMONTH=10;BYDAY=-1SU
END:STANDARD
END:VTIMEZONE
BEGIN:VEVENT
UID:6278630:Event:65810
DTSTAMP:20260425T151109Z
SUMMARY:Photgraphic Exhibition: SHOOT ME A RIVER
DESCRIPTION:Four hundred years ago in September 1613, the New River, b
 uilt to bring fresh water in to the capital was completed.\nStarting i
 n Ware, in Hertfordshire, it travels 28 miles to the New River head in
  Islington.\nTo celebrate this magnificent feat of engineering, Bowes 
 Park’s very own Click Camera Club are exhibiting a collection of ph
 otographs inspired by the New River as it is today.\nThese photographs
  show some of the life, communities, landscapes and architecture of th
 is historic river, four hundred years after it was completed.\nThe exh
 ibition is open from Tuesday 24 September – 6 October 2013\n\nPhotog
 raph below: Mums Lounge by Mary Sweeny\n\n\nFor more information visit
  https://bowesandbounds.org/events/photgraphic-exhibition-shoot-me-a-r
 iver
DTSTART;TZID=Europe/London:20131011T193000
DTEND;TZID=Europe/London:20131024T230000
CATEGORIES:photography, exhibition, nr400
LOCATION:The Step
WEBSITE:
URL:
CONTACT:
ORGANIZER;CN=Administrator:https://bowesandbounds.org/profile/Administ
 rator
ATTACH;FMTTYPE="image/jpeg":http://storage.ning.com/topology/rest/1.0/
 file/get/2287255180?profile=original
ATTENDEE;ROLE=REQ-PARTICIPANT;PARTSTAT=ACCEPTED;RSVP=TRUE;CN=Administr
 ator:https://bowesandbounds.org/profile/Administrator
ATTENDEE;ROLE=REQ-PARTICIPANT;PARTSTAT=ACCEPTED;RSVP=TRUE;CN="Lindsey 
 Berthoud":https://bowesandbounds.org/profile/LindseyClarke
ATTENDEE;ROLE=REQ-PARTICIPANT;PARTSTAT=ACCEPTED;RSVP=TRUE;CN="Peter Be
 rthoud":https://bowesandbounds.org/profile/PeterBerthoud
ATTENDEE;ROLE=REQ-PARTICIPANT;PARTSTAT=ACCEPTED;RSVP=TRUE;CN="Mandy No
 rman":https://bowesandbounds.org/profile/MandyNorman
ATTENDEE;ROLE=REQ-PARTICIPANT;PARTSTAT=ACCEPTED;RSVP=TRUE;CN="Nell Ric
 hes":https://bowesandbounds.org/profile/NellRiches
ATTENDEE;ROLE=REQ-PARTICIPANT;PARTSTAT=ACCEPTED;RSVP=TRUE;CN="Stephen 
 Middleton":https://bowesandbounds.org/profile/StephenMiddleton
ATTENDEE;ROLE=REQ-PARTICIPANT;PARTSTAT=ACCEPTED;RSVP=TRUE;CN="Anne Gar
 barini":https://bowesandbounds.org/profile/AnneGarbarini
END:VEVENT
END:VCALENDAR
