BEGIN:VCALENDAR
PRODID:NingEventWidget-v1
VERSION:2.0
METHOD:PUBLISH
BEGIN:VTIMEZONE
TZID:Europe/London
X-LIC-LOCATION:Europe/London
BEGIN:DAYLIGHT
TZOFFSETFROM:+0000
TZOFFSETTO:+0100
TZNAME:BST
DTSTART:19700329T010000
RRULE:FREQ=YEARLY;BYMONTH=3;BYDAY=-1SU
END:DAYLIGHT
BEGIN:STANDARD
TZOFFSETFROM:+0100
TZOFFSETTO:+0000
TZNAME:GMT
DTSTART:19701025T020000
RRULE:FREQ=YEARLY;BYMONTH=10;BYDAY=-1SU
END:STANDARD
END:VTIMEZONE
BEGIN:VEVENT
UID:6278630:Event:95788
DTSTAMP:20260419T211829Z
SUMMARY:Photography walk in Coldfall Wood
DESCRIPTION:Summer is here. Look at the woods with a fresh eye and cap
 ture the beauty of new life. Please bring your camera or a mobile phon
 e (and a tripod if you wish).\nLed by Nigel Norie, local photographer
 \nFree, though a donation of £3 per adult is appreciated.\n\nFor more
  information visit https://bowesandbounds.org/events/photography-walk-
 workshop-in-coldfall-wood
DTSTART;TZID=Europe/London:20150606T140000
DTEND;TZID=Europe/London:20150606T160000
CATEGORIES:woodland, walk
LOCATION:Coldfall Wood
WEBSITE:http://www.coldfallwoods.co.uk
URL:http://www.coldfallwoods.co.uk
CONTACT:
ORGANIZER;CN="Krishna Ramamurthy":https://bowesandbounds.org/profile/K
 rishnaRamamurthy
ATTACH;FMTTYPE="image/jpeg":http://storage.ning.com/topology/rest/1.0/
 file/get/2287287975?profile=original
ATTENDEE;ROLE=REQ-PARTICIPANT;PARTSTAT=ACCEPTED;RSVP=TRUE;CN="Richard 
 McKeever":https://bowesandbounds.org/profile/3hwxkqhdde8gc
ATTENDEE;ROLE=REQ-PARTICIPANT;PARTSTAT=ACCEPTED;RSVP=TRUE;CN="Stephen 
 Middleton":https://bowesandbounds.org/profile/StephenMiddleton
ATTENDEE;ROLE=REQ-PARTICIPANT;PARTSTAT=ACCEPTED;RSVP=TRUE;CN="Krishna 
 Ramamurthy":https://bowesandbounds.org/profile/KrishnaRamamurthy
END:VEVENT
END:VCALENDAR
