BEGIN:VCALENDAR
PRODID:NingEventWidget-v1
VERSION:2.0
METHOD:PUBLISH
BEGIN:VTIMEZONE
TZID:Europe/London
X-LIC-LOCATION:Europe/London
BEGIN:DAYLIGHT
TZOFFSETFROM:+0000
TZOFFSETTO:+0100
TZNAME:BST
DTSTART:19700329T010000
RRULE:FREQ=YEARLY;BYMONTH=3;BYDAY=-1SU
END:DAYLIGHT
BEGIN:STANDARD
TZOFFSETFROM:+0100
TZOFFSETTO:+0000
TZNAME:GMT
DTSTART:19701025T020000
RRULE:FREQ=YEARLY;BYMONTH=10;BYDAY=-1SU
END:STANDARD
END:VTIMEZONE
BEGIN:VEVENT
UID:6278630:Event:132263
DTSTAMP:20260419T154133Z
SUMMARY:Picnic in the Dark with 'Pirates of the Caribbean'
DESCRIPTION:Talkies’ tradition of an annual picnic in the park in th
 e dark continues on the last Friday of the school holidays with the or
 iginal Pirates of the Caribbean - The Curse of the Black Pearl.\nBring
  along friends and family to make it a pirates night to remember! Ah-h
 arrrrrr me hearties…let’s see those spotty hankies, eye patches an
 d parrots!!\nCapt. Jack Sparrow (Johnny Depp) arrives at Port Royal in
  the Caribbean without a ship or crew. His timing is inopportune, howe
 ver, because later that evening the town is besieged by a pirate ship.
  The pirates kidnap the governor’s daughter, Elizabeth (Keira Knight
 ley), who’s in possession of a valuable coin that is linked to a cur
 se that has transformed the pirates into the undead. A gallant blacksm
 ith (Orlando Bloom) in love with Elizabeth allies with Sparrow in purs
 uit of the pirates.\nREAD MORE AND BUY TICKETS\n\n\nFor more informati
 on visit https://bowesandbounds.org/events/picnic-in-the-dark-with-pir
 ates-of-the-caribbean
DTSTART;TZID=Europe/London:20180831T190000
DTEND;TZID=Europe/London:20180831T220000
CATEGORIES:outdoor, cinema
LOCATION:Broomfield Park BOWLING GREEN, N13
WEBSITE:http://talkies.org.uk/event/pirates-caribbean-curse-black-pear
 l/
URL:http://talkies.org.uk/event/pirates-caribbean-curse-black-pearl/
CONTACT:
ORGANIZER;CN="David Williamson":https://bowesandbounds.org/profile/Dav
 idWilliamson
ATTACH;FMTTYPE="image/jpeg":http://storage.ning.com/topology/rest/1.0/
 file/get/2287328833?profile=original
ATTENDEE;ROLE=REQ-PARTICIPANT;PARTSTAT=ACCEPTED;RSVP=TRUE;CN="David Wi
 lliamson":https://bowesandbounds.org/profile/DavidWilliamson
END:VEVENT
END:VCALENDAR
