BEGIN:VCALENDAR
PRODID:NingEventWidget-v1
VERSION:2.0
METHOD:PUBLISH
BEGIN:VTIMEZONE
TZID:Europe/London
X-LIC-LOCATION:Europe/London
BEGIN:DAYLIGHT
TZOFFSETFROM:+0000
TZOFFSETTO:+0100
TZNAME:BST
DTSTART:19700329T010000
RRULE:FREQ=YEARLY;BYMONTH=3;BYDAY=-1SU
END:DAYLIGHT
BEGIN:STANDARD
TZOFFSETFROM:+0100
TZOFFSETTO:+0000
TZNAME:GMT
DTSTART:19701025T020000
RRULE:FREQ=YEARLY;BYMONTH=10;BYDAY=-1SU
END:STANDARD
END:VTIMEZONE
BEGIN:VEVENT
UID:6278630:Event:136502
DTSTAMP:20260419T234400Z
SUMMARY:Piecing Together the Past: Tracing Lost Films
DESCRIPTION:INTERESTED IN OLD FILMS? \nPiecing Together the Past: Tra
 cing Lost Films\nBy Ian Christie, Professor of Film and Media History,
  Birkbeck College\nDid you know that one of the early film pioneers Ro
 bert Paul built the first film studio in the UK on land which is now S
 ydney Road, N10? Many of his first films were filmed in different loca
 tions locally, including a re-enactment of the Boer War on Muswell Hil
 l Golf Course!\nMost of the hundreds of films produced by Robert Paul 
 before 1910 have disappeared. But they are gradually being found, ofte
 n in strange places! In this talk, Ian Christie will reveal some recen
 t discoveries, and suggests how and where we might look for more long-
 lost early films.\nThe talk accompanies the current exhibition at Bruc
 e Castle Museum, 'Animatograph! How cinema was born in Haringey'.\nDoo
 rs open 12 noon. Refreshments available.  Kindly supported by the Fri
 ends of Bruce Castle\n The photograph shows 'The Fatal Hand' film, 190
 7, filmed at Alexandra Palace by Robert Paul\n\n\nFor more information
  visit https://bowesandbounds.org/events/piecing-together-the-past-tra
 cing-lost-films
DTSTART;TZID=Europe/London:20190429T121500
DTEND;TZID=Europe/London:20190429T133000
CATEGORIES:lunchtime, talk, films, heritage, local, history
LOCATION:Bruce Castle Museum
WEBSITE:http://www.haringey.gov.uk/brucecastlemuseum
URL:http://www.haringey.gov.uk/brucecastlemuseum
CONTACT:020 8808 8772
ORGANIZER;CN="Deborah Hedgecock":https://bowesandbounds.org/profile/De
 borahHedgecock
ATTACH;FMTTYPE="image/jpeg":https://storage.ning.com/topology/rest/1.0
 /file/get/2222064215?profile=original
ATTENDEE;ROLE=REQ-PARTICIPANT;PARTSTAT=ACCEPTED;RSVP=TRUE;CN="Deborah 
 Hedgecock":https://bowesandbounds.org/profile/DeborahHedgecock
END:VEVENT
END:VCALENDAR
