BEGIN:VCALENDAR
PRODID:NingEventWidget-v1
VERSION:2.0
METHOD:PUBLISH
BEGIN:VTIMEZONE
TZID:Europe/London
X-LIC-LOCATION:Europe/London
BEGIN:DAYLIGHT
TZOFFSETFROM:+0000
TZOFFSETTO:+0100
TZNAME:BST
DTSTART:19700329T010000
RRULE:FREQ=YEARLY;BYMONTH=3;BYDAY=-1SU
END:DAYLIGHT
BEGIN:STANDARD
TZOFFSETFROM:+0100
TZOFFSETTO:+0000
TZNAME:GMT
DTSTART:19701025T020000
RRULE:FREQ=YEARLY;BYMONTH=10;BYDAY=-1SU
END:STANDARD
END:VTIMEZONE
BEGIN:VEVENT
UID:6278630:Event:239797
DTSTAMP:20260421T210915Z
SUMMARY:Plant & Cake Sale
DESCRIPTION:All proceeds go towards the upkeep of the garden.\r\n\r\n\
 n\nFor more information visit https://bowesandbounds.org/events/plant-
 cake-sale
DTSTART;TZID=Europe/London:20220423T110000
DTEND;TZID=Europe/London:20220423T130000
CATEGORIES:plant, "&amp", cake, sale
LOCATION:Bowes Park Community Garden
WEBSITE:
URL:
CONTACT:
ORGANIZER;CN="Daniel Cowan":https://bowesandbounds.org/profile/DanielC
 owan
ATTACH;FMTTYPE="image/jpeg":
ATTENDEE;ROLE=REQ-PARTICIPANT;PARTSTAT=ACCEPTED;RSVP=TRUE;CN="Daniel C
 owan":https://bowesandbounds.org/profile/DanielCowan
END:VEVENT
END:VCALENDAR
