BEGIN:VCALENDAR
PRODID:NingEventWidget-v1
VERSION:2.0
METHOD:PUBLISH
BEGIN:VTIMEZONE
TZID:Europe/London
X-LIC-LOCATION:Europe/London
BEGIN:DAYLIGHT
TZOFFSETFROM:+0000
TZOFFSETTO:+0100
TZNAME:BST
DTSTART:19700329T010000
RRULE:FREQ=YEARLY;BYMONTH=3;BYDAY=-1SU
END:DAYLIGHT
BEGIN:STANDARD
TZOFFSETFROM:+0100
TZOFFSETTO:+0000
TZNAME:GMT
DTSTART:19701025T020000
RRULE:FREQ=YEARLY;BYMONTH=10;BYDAY=-1SU
END:STANDARD
END:VTIMEZONE
BEGIN:VEVENT
UID:6278630:Event:114537
DTSTAMP:20260422T035922Z
SUMMARY:Plant Sale at AP Allots Sunday 5 June 2-4.30pm
DESCRIPTION:PLANT SALE \nAt the Ally Pally Allotments  Sunday 5 June
   2 - 4.30 pm\nFriendly plant sale with lots of good plants both flow
 ers and veg.  Great teas & home-made cakes at our 'cafe' with a view 
 over London.  Bees on show at our bee-keeping stall. Books. Old tools
 .  Good value prices!\nIn case of rain, our stalls & outside cafe sea
 ting are covered.\nGetting there on foot or by car or bus: See http://
 www.apaa.org.uk\n Queries:\n07870 157 703 or bob@apaa.org.uk http://ww
 w.apaa.org.uk\n------------------------------------------\n\n\nFor mor
 e information visit https://bowesandbounds.org/events/plant-sale-at-ap
 -allots-sunday-5-june-2-4-30pm
DTSTART;TZID=Europe/London:20160605T140000
DTEND;TZID=Europe/London:20160605T163000
CATEGORIES:plant, sale
LOCATION:Ally Pally Allotments
WEBSITE:https://www.google.co.uk/maps/@51.5881793,-0.1334394,15z
URL:https://www.google.co.uk/maps/@51.5881793,-0.1334394,15z
CONTACT:07870 157 703
ORGANIZER;CN="Robert Hare":https://bowesandbounds.org/profile/RobertHa
 re
ATTACH;FMTTYPE="image/jpeg":http://storage.ning.com/topology/rest/1.0/
 file/get/2287311628?profile=original
ATTENDEE;ROLE=REQ-PARTICIPANT;PARTSTAT=ACCEPTED;RSVP=TRUE;CN="Robert H
 are":https://bowesandbounds.org/profile/RobertHare
END:VEVENT
END:VCALENDAR
