BEGIN:VCALENDAR
PRODID:NingEventWidget-v1
VERSION:2.0
METHOD:PUBLISH
BEGIN:VTIMEZONE
TZID:Europe/London
X-LIC-LOCATION:Europe/London
BEGIN:DAYLIGHT
TZOFFSETFROM:+0000
TZOFFSETTO:+0100
TZNAME:BST
DTSTART:19700329T010000
RRULE:FREQ=YEARLY;BYMONTH=3;BYDAY=-1SU
END:DAYLIGHT
BEGIN:STANDARD
TZOFFSETFROM:+0100
TZOFFSETTO:+0000
TZNAME:GMT
DTSTART:19701025T020000
RRULE:FREQ=YEARLY;BYMONTH=10;BYDAY=-1SU
END:STANDARD
END:VTIMEZONE
BEGIN:VEVENT
UID:6278630:Event:251171
DTSTAMP:20260421T105012Z
SUMMARY:Plants 'n' Bass ~ Vegan Club Night
DESCRIPTION:\nDetails ðŸŒ¿ Plants 'n' Bass ~ Vegan Club Night ðŸŽ¶\nA 
 genre-blending night of bass-heavy beats, late-night dancing, and good
  energy at Karamel Club.\nðŸŽ§ Lineup: â€¢ Scratch Bandicoot @scratch_
 bandicoot â€“ Drum and Bass Â· DnB Disco â€¢ DJÃ„K @djakfruit â€“ Hous
 e Â· Dubstep Â· Drum and Bass â€¢ Lady Lena â€“ Drum and Bass Â· Jungl
 e\nðŸ“ Karamel Club, 4 Coburg Rd, N22 6JU ðŸ—“ Saturday 2 August | â
 ° 9PM â€“ 1AM ðŸ½ Food from 6.30PM | ðŸŽŸ Free entry\nðŸ¤— All are we
 lcome, and we strive to make the event a safe and inclusive space for 
 everyone: no discriminatory or abusive behaviour of any kind will be t
 olerated. Please let the organisers know if you or others feel uncomfo
 rtable because of an attendee's conduct.\nðŸš‰ Karamel is a short walk
  from either Wood Green underground station (Piccadilly Line) or Alexa
 ndra Palace train station (Great Northern services from Moorgate via F
 insbury Park), and the area is also served by many bus lines.\nâ™¿ï¸ 
 The entrance to the venue is step-free and there is a wheelchair-acces
 sible toilet.\n\nFor more information visit https://bowesandbounds.org
 /events/plants-n-bass-vegan-club-night
DTSTART;TZID=Europe/London:20250802T183000
DTEND;TZID=Europe/London:20250803T000000
CATEGORIES:"vegan venue", "vegan food", "live music", "world music", d
 j, "club night"
LOCATION:karamel, 4 Coburg Road, Wood Green, London N22 6UJ
WEBSITE:https://www.musicglue.com/karamel/events/2025-08-02-plants-n-b
 ass-vegan-club-night-karamel
URL:https://www.musicglue.com/karamel/events/2025-08-02-plants-n-bass-
 vegan-club-night-karamel
CONTACT:
ORGANIZER;CN="Collage Artspaces":https://bowesandbounds.org/profile/Co
 llage_Arts
ATTACH;FMTTYPE="image/jpeg":
ATTENDEE;ROLE=REQ-PARTICIPANT;PARTSTAT=ACCEPTED;RSVP=TRUE;CN="Collage 
 Artspaces":https://bowesandbounds.org/profile/Collage_Arts
END:VEVENT
END:VCALENDAR
