BEGIN:VCALENDAR
PRODID:NingEventWidget-v1
VERSION:2.0
METHOD:PUBLISH
BEGIN:VTIMEZONE
TZID:Europe/London
X-LIC-LOCATION:Europe/London
BEGIN:DAYLIGHT
TZOFFSETFROM:+0000
TZOFFSETTO:+0100
TZNAME:BST
DTSTART:19700329T010000
RRULE:FREQ=YEARLY;BYMONTH=3;BYDAY=-1SU
END:DAYLIGHT
BEGIN:STANDARD
TZOFFSETFROM:+0100
TZOFFSETTO:+0000
TZNAME:GMT
DTSTART:19701025T020000
RRULE:FREQ=YEARLY;BYMONTH=10;BYDAY=-1SU
END:STANDARD
END:VTIMEZONE
BEGIN:VEVENT
UID:6278630:Event:252397
DTSTAMP:20260419T212033Z
SUMMARY:Poetry and Poppadums with Hannah Lowe
DESCRIPTION:\nKicking off the 2026 season of Poetry and Poppadums is C
 osta Poetry Prize Winner, Hannah Lowe. \"A poet with a commanding styl
 e, her voice is entirely her own, both rich and laconic.... springing 
 from the page with vitality, rue & insight\"\nPlus very special guests
  TBC.\nHosted by Paul Lyalls \"Always charismatic\" - Time Out magazin
 e.\nKaramel, 4 Coburg Road, London N22 6UJ.\nDining from 6.30pm (optio
 nal). Show from 8pm.\nBuy your tickets here now. Also, please book a t
 able if dining by email to karamel8775@gmail.com providing your name, 
 size of group and arrival time.\n\nTICKETS £10\n\nFor more informati
 on visit https://bowesandbounds.org/events/poetry-and-poppadums-with-h
 annah-lowe
DTSTART;TZID=Europe/London:20260130T183000
DTEND;TZID=Europe/London:20260130T220000
CATEGORIES:poetry, liveshow, veganvenue, veganfood, comedy
LOCATION:karamel, 4 Coburg Road, Wood Green, London N22 6UJ
WEBSITE:https://www.musicglue.com/karamel/events/2026-01-30-poetry-and
 -poppadums-with-hannah-lowe-karamel
URL:https://www.musicglue.com/karamel/events/2026-01-30-poetry-and-pop
 padums-with-hannah-lowe-karamel
CONTACT:
ORGANIZER;CN="Collage Artspaces":https://bowesandbounds.org/profile/Co
 llage_Arts
ATTACH;FMTTYPE="image/jpeg":https://storage.ning.com/topology/rest/1.0
 /file/get/31065006885?profile=original
ATTENDEE;ROLE=REQ-PARTICIPANT;PARTSTAT=ACCEPTED;RSVP=TRUE;CN="Collage 
 Artspaces":https://bowesandbounds.org/profile/Collage_Arts
END:VEVENT
END:VCALENDAR
