BEGIN:VCALENDAR
PRODID:NingEventWidget-v1
VERSION:2.0
METHOD:PUBLISH
BEGIN:VTIMEZONE
TZID:Europe/London
X-LIC-LOCATION:Europe/London
BEGIN:DAYLIGHT
TZOFFSETFROM:+0000
TZOFFSETTO:+0100
TZNAME:BST
DTSTART:19700329T010000
RRULE:FREQ=YEARLY;BYMONTH=3;BYDAY=-1SU
END:DAYLIGHT
BEGIN:STANDARD
TZOFFSETFROM:+0100
TZOFFSETTO:+0000
TZNAME:GMT
DTSTART:19701025T020000
RRULE:FREQ=YEARLY;BYMONTH=10;BYDAY=-1SU
END:STANDARD
END:VTIMEZONE
BEGIN:VEVENT
UID:6278630:Event:250543
DTSTAMP:20260423T162341Z
SUMMARY:Poetry and Poppadums with Simon Munnery
DESCRIPTION:\nWe invite you to a side-splitting evening of comedy and 
 musings in the warm & welcoming Karamel!\nFeaturing Comedy award winni
 ng SIMON MUNNERY\n'A master of fun flights of fancy from a true maveri
 ck' - London Evening Standard,\nA disarmingly casual yet playfully bri
 lliant comedian/poet, It's a pleasure to see him live.' - Fest Magazin
 e\nHis highly inventive mix of Poetry, stand-up and very well aimed ra
 ndomness has made him an award winner on the global circuit.\nWith Spe
 cial Guests\nKEITH JARRETT 'His easy warmth & charisma primes the audi
 ence for a breadth of content & pitch, bridging personal & political, 
 the comic & the tragic ' - Sabotage Mag\nJULIAN FOX -''Tinder dry humo
 ur, endearing, engrossing & wholly entertaining' - The Guardian\nHoste
 d by Paul Lyalls 'Always charismatic'- Time Out Magazine\nDoors open a
 t 6.30pm (for dining - see below).\nShow starts at 8pm.\nSuitable for 
 mature 14s and older.\nTickets £10 can be bought from www.musicglue.c
 om/karamel Booking is advised to avoid disappointment.\nDining (option
 al) in the Karamel restaurant from 6.30pm-8pm. Please book a table by 
 emailing karamel8775@gmail.com with your group size and arrival time.\
 nKaramel is a vegan establishment at 4 Coburg Road, London N22 6UJ. (1
 0 mins walk Wood Green tube, free parking outside from 6.30pm).\n\nFor
  more information visit https://bowesandbounds.org/events/poetry-and-p
 oppadums-with-simon-munnery
DTSTART;TZID=Europe/London:20250606T183000
DTEND;TZID=Europe/London:20250606T220000
CATEGORIES:poetry, liveshow, veganvenue, veganfood, comedy
LOCATION:karamel, 4 Coburg Road, Wood Green, London N22 6UJ
WEBSITE:https://www.musicglue.com/karamel/events/2025-06-06-poetry-and
 -poppadums-with-simon-munnery-karamel
URL:https://www.musicglue.com/karamel/events/2025-06-06-poetry-and-pop
 padums-with-simon-munnery-karamel
CONTACT:
ORGANIZER;CN="Collage Artspaces":https://bowesandbounds.org/profile/Co
 llage_Arts
ATTACH;FMTTYPE="image/jpeg":https://storage.ning.com/topology/rest/1.0
 /file/get/13554234099?profile=original
ATTENDEE;ROLE=REQ-PARTICIPANT;PARTSTAT=ACCEPTED;RSVP=TRUE;CN="Collage 
 Artspaces":https://bowesandbounds.org/profile/Collage_Arts
END:VEVENT
END:VCALENDAR
