BEGIN:VCALENDAR
PRODID:NingEventWidget-v1
VERSION:2.0
METHOD:PUBLISH
BEGIN:VTIMEZONE
TZID:Europe/London
X-LIC-LOCATION:Europe/London
BEGIN:DAYLIGHT
TZOFFSETFROM:+0000
TZOFFSETTO:+0100
TZNAME:BST
DTSTART:19700329T010000
RRULE:FREQ=YEARLY;BYMONTH=3;BYDAY=-1SU
END:DAYLIGHT
BEGIN:STANDARD
TZOFFSETFROM:+0100
TZOFFSETTO:+0000
TZNAME:GMT
DTSTART:19701025T020000
RRULE:FREQ=YEARLY;BYMONTH=10;BYDAY=-1SU
END:STANDARD
END:VTIMEZONE
BEGIN:VEVENT
UID:6278630:Event:197120
DTSTAMP:20260422T174824Z
SUMMARY:Poetry Course: Finding the Poem Part 3 with Paul Lyalls
DESCRIPTION:Monday evenings, 6.30pm to 9pm; Jan 4, 11, 18, 25, Feb 1,
  8. Virtual Writing Room via ZOOM video conference & correspondence\n
 This is a course for anyone who wants to liberate their creativity and
  immerse themselves in the joy of language. Playful, fun, entertaining
 , enlightening – explore your word power with Paul Lyalls. Full of o
 ff-kilter pen to paper tangoing, including an Edinburgh Festival Comed
 y approach to humour in poetry, scuba diving what you’ve been surviv
 ing via a trip to India!\nA note to prose writers: have you ever wonde
 red what it is like to write in the poetic form? Perhaps you write in 
 prose automatically, but would like to try to use language in another 
 way. If your fiction needs a lift, if your life-writing needs lilt, if
  your central characters don’t quite sing (or even if they do!) you 
 can free your writing through poetry.\n\nCost £125 (email kate@collag
 e-arts.org to register and receive payment link)\nWe help to develop a
 nd support the writer, as much as the writing, with extra check-in ses
 sions like our process/progress group, and our Feedback Fridays, shari
 ng salons and reading groups. Our latest course programme is here. Ou
 r clubs and groups are here.\n\nFor more information visit https://bo
 wesandbounds.org/events/poetry-course-finding-the-poem-part-3-with-pau
 l-lyalls
DTSTART;TZID=Europe/London:20210104T183000
DTEND;TZID=Europe/London:20210104T210000
CATEGORIES:poetry, "creative writing", "online writing workshop"
LOCATION:Collage Writing Room online
WEBSITE:http://collagewritingroom.com/spring-courses/
URL:http://collagewritingroom.com/spring-courses/
CONTACT:
ORGANIZER:Carmel Shortall for Collage Writing Room
ATTACH;FMTTYPE="image/jpeg":https://storage.ning.com/topology/rest/1.0
 /file/get/8266539052?profile=original
ATTENDEE;ROLE=REQ-PARTICIPANT;PARTSTAT=ACCEPTED;RSVP=TRUE;CN="Carmel S
 hortall":https://bowesandbounds.org/profile/CarmelShortall
END:VEVENT
END:VCALENDAR
