BEGIN:VCALENDAR
PRODID:NingEventWidget-v1
VERSION:2.0
METHOD:PUBLISH
BEGIN:VTIMEZONE
TZID:Europe/London
X-LIC-LOCATION:Europe/London
BEGIN:DAYLIGHT
TZOFFSETFROM:+0000
TZOFFSETTO:+0100
TZNAME:BST
DTSTART:19700329T010000
RRULE:FREQ=YEARLY;BYMONTH=3;BYDAY=-1SU
END:DAYLIGHT
BEGIN:STANDARD
TZOFFSETFROM:+0100
TZOFFSETTO:+0000
TZNAME:GMT
DTSTART:19701025T020000
RRULE:FREQ=YEARLY;BYMONTH=10;BYDAY=-1SU
END:STANDARD
END:VTIMEZONE
BEGIN:VEVENT
UID:6278630:Event:234956
DTSTAMP:20260422T142722Z
SUMMARY:Poetry Workshop Online with Collage Writing Room
DESCRIPTION:Finding the Poem Set 3 with Paul Lyalls\nMonday evenings: 
 6.30-9pm; 7, 14, 21, 28 June, 5, 12 July. £125. Email kate@collage-
 arts.org.uk to reserve your place and receive a payment link. Virtual
  Writing Room via ZOOM video conference & correspondence.\nThis is a c
 ourse for anyone who wants to liberate their creativity and immerse th
 emselves in the joy of language. Playful, fun, entertaining, enlighten
 ing – explore your word power with Paul Lyalls. Full of off-kilter p
 en to paper tangoing, including an Edinburgh Festival Comedy approach 
 to humour in poetry, scuba diving what you’ve been surviving via a t
 rip to India!\nEnjoy this set of 6 workshops, one of 3 separate sets w
 hich can be taken in any order.\n1) Should have could have poetry tool
  box.\n2) Journey’s and the travelogue in conversation.\n3) A sense 
 of place (2) and sorry not sorry.\n4) Image detectives and news you ca
 n use.\n5) As the saying goes.\n6) Tone and setting – gambling not b
 etting.\nA note to prose writers: have you ever wondered what it is li
 ke to write in the poetic form? Perhaps you write in prose automatical
 ly, but would like to try to use language in another way. If your fict
 ion needs a lift, if your life-writing needs lilt, if your central cha
 racters don’t quite sing (or even if they do!) you can free your wri
 ting through poetry.\n We would love to welcome you to our writing co
 mmunity where you can progress your work, share ideas with other write
 rs, and focus on your writing away from distractions.\n\nFor more info
 rmation visit https://bowesandbounds.org/events/poetry-workshop-online
 -with-collage-writing-room
DTSTART;TZID=Europe/London:20210607T183000
DTEND;TZID=Europe/London:20210607T210000
CATEGORIES:poetry, "creative writing", "online poetry workshop", "find
  your inner poet"
LOCATION:Collage Writing Room online
WEBSITE:http://collagewritingroom.com/summer-courses/
URL:http://collagewritingroom.com/summer-courses/
CONTACT:
ORGANIZER:Carmel Shortall for Collage Writing Room
ATTACH;FMTTYPE="image/jpeg":https://storage.ning.com/topology/rest/1.0
 /file/get/8680085284?profile=original
ATTENDEE;ROLE=REQ-PARTICIPANT;PARTSTAT=ACCEPTED;RSVP=TRUE;CN="Carmel S
 hortall":https://bowesandbounds.org/profile/CarmelShortall
END:VEVENT
END:VCALENDAR
