BEGIN:VCALENDAR
PRODID:NingEventWidget-v1
VERSION:2.0
METHOD:PUBLISH
BEGIN:VTIMEZONE
TZID:Europe/London
X-LIC-LOCATION:Europe/London
BEGIN:DAYLIGHT
TZOFFSETFROM:+0000
TZOFFSETTO:+0100
TZNAME:BST
DTSTART:19700329T010000
RRULE:FREQ=YEARLY;BYMONTH=3;BYDAY=-1SU
END:DAYLIGHT
BEGIN:STANDARD
TZOFFSETFROM:+0100
TZOFFSETTO:+0000
TZNAME:GMT
DTSTART:19701025T020000
RRULE:FREQ=YEARLY;BYMONTH=10;BYDAY=-1SU
END:STANDARD
END:VTIMEZONE
BEGIN:VEVENT
UID:6278630:Event:138908
DTSTAMP:20260419T132750Z
SUMMARY:Pregnancy Yoga
DESCRIPTION:Every Monday 18:30-19:30\n\nPregnancy yoga is a fantastic 
 way to support your body and your growing baby throughout pregnancy an
 d to help to prepare your body for birth and beyond. Suitable from you
 r first scan these classes will help to release sore and tired muscles
 , build strength for birth and carrying a baby, and give you plenty of
  movement and breathwork tools to use during all types of labour.\nThi
 s class is limited to 6 people so you get plenty of individual attenti
 on. Pre-booking is essential as this class is often fully booked. \nG
 o to www.gabimarkhamyoga.com or send me a message for more information
 .\n\n\nFor more information visit https://bowesandbounds.org/events/pr
 egnancy-yoga-5
DTSTART;TZID=Europe/London:20191104T183000
DTEND;TZID=Europe/London:20191209T193000
CATEGORIES:yoga, class, for, pregnancy
LOCATION:Brownlow Road
WEBSITE:http://www.gabimarkhamyoga.com
URL:http://www.gabimarkhamyoga.com
CONTACT:07999583522
ORGANIZER;CN="Gabi Markham":https://bowesandbounds.org/profile/GabiMar
 kham
ATTACH;FMTTYPE="image/jpeg":
ATTENDEE;ROLE=REQ-PARTICIPANT;PARTSTAT=ACCEPTED;RSVP=TRUE;CN="Gabi Mar
 kham":https://bowesandbounds.org/profile/GabiMarkham
END:VEVENT
END:VCALENDAR
