BEGIN:VCALENDAR
PRODID:NingEventWidget-v1
VERSION:2.0
METHOD:PUBLISH
BEGIN:VTIMEZONE
TZID:Europe/London
X-LIC-LOCATION:Europe/London
BEGIN:DAYLIGHT
TZOFFSETFROM:+0000
TZOFFSETTO:+0100
TZNAME:BST
DTSTART:19700329T010000
RRULE:FREQ=YEARLY;BYMONTH=3;BYDAY=-1SU
END:DAYLIGHT
BEGIN:STANDARD
TZOFFSETFROM:+0100
TZOFFSETTO:+0000
TZNAME:GMT
DTSTART:19701025T020000
RRULE:FREQ=YEARLY;BYMONTH=10;BYDAY=-1SU
END:STANDARD
END:VTIMEZONE
BEGIN:VEVENT
UID:6278630:Event:239582
DTSTAMP:20260421T153818Z
SUMMARY:Prioritise Your Writing!
DESCRIPTION:Prioritise Your Writing, with Alison Chandler\nProducing a
  full-length work – whether it’s a novel or novella, a memoir, bio
 graphy or a collection of stories – requires a love of writing, a wi
 llingness to grow as a writer and lots of hard work. Practicing all th
 ree in the company of an encouraging, supportive group makes the whole
  experience a lot more productive and a lot more fun!\nOur classes are
  small and each session is bespoke, tailored to participants’ specif
 ic goals. We workshop our words, learning as much from our close readi
 ng of others as we do from receiving feedback ourselves, and discuss a
 ll aspects of writing craft. If you’re ready to take a leap forward 
 with your project in great company, we’d love to hear from you. And 
 if you’re a regular, you know you’re always welcome back to take y
 our work to the next stage.\nWednesdays 10.30am to 1pm. June 8, 15, 22
 , 29, July 6, 13.\n£125. Email contact@writingroom.org.uk\nRead an a
 ccount of how this course helped one (now published!) author here: htt
 ps://www.natashaboydell.co.uk/post/from-a-novel-idea-to-a-publishing-d
 eal\n\nFor more information visit https://bowesandbounds.org/events/pr
 ioritise-your-writing-and-finish-your-book
DTSTART;TZID=Europe/London:20220608T103000
DTEND;TZID=Europe/London:20220608T210000
CATEGORIES:"writing workshop", "prioritise your writing", "finish your
  novel", "creative writing online"
LOCATION:Zoom Online from Writing Room
WEBSITE:https://www.writingroom.org.uk/courses/prioritise-your-writing
URL:https://www.writingroom.org.uk/courses/prioritise-your-writing
CONTACT:
ORGANIZER:Carmel for Writing Room
ATTACH;FMTTYPE="image/jpeg":https://storage.ning.com/topology/rest/1.0
 /file/get/10448393669?profile=original
ATTENDEE;ROLE=REQ-PARTICIPANT;PARTSTAT=ACCEPTED;RSVP=TRUE;CN="c p shor
 tall":https://bowesandbounds.org/profile/3j09t7wiq9lkd
END:VEVENT
END:VCALENDAR
