BEGIN:VCALENDAR
PRODID:NingEventWidget-v1
VERSION:2.0
METHOD:PUBLISH
BEGIN:VTIMEZONE
TZID:Europe/London
X-LIC-LOCATION:Europe/London
BEGIN:DAYLIGHT
TZOFFSETFROM:+0000
TZOFFSETTO:+0100
TZNAME:BST
DTSTART:19700329T010000
RRULE:FREQ=YEARLY;BYMONTH=3;BYDAY=-1SU
END:DAYLIGHT
BEGIN:STANDARD
TZOFFSETFROM:+0100
TZOFFSETTO:+0000
TZNAME:GMT
DTSTART:19701025T020000
RRULE:FREQ=YEARLY;BYMONTH=10;BYDAY=-1SU
END:STANDARD
END:VTIMEZONE
BEGIN:VEVENT
UID:6278630:Event:120424
DTSTAMP:20260423T051122Z
SUMMARY:Public Meeting: CLEAN AIR FOR ENFIELD
DESCRIPTION:Thursday 12th January 7.30-9.30pm Bowes School, N11 2HL Or
 ganised by local clean air campaigner, Daniel Jones. danieldotdot@hot
 mail.com\nChair – David Burrowes MP\nSpeakers:\n\nCaroline Russell A
 M - Green Party London Assembly Member\nCllrs Alan Sitkin & Daniel And
 erson – Enfield Council\nNed Johnson – Enfield Pollution Officer\n
 Clare Rogers – Better Streets for Enfield\nSophie Neuburg – Friend
 s of the Earth\n\nThe North Circular road runs through Enfield causing
  dangerous levels of air pollution. What can politicians and local peo
 ple do to tackle air pollution near this road and elsewhere in the bor
 ough?\nThis meeting will consider the options, including the Ultra-Low
  Emission Zone that is being considered by the Mayor of London.\nAll w
 elcome. Download a flyer and pass it on!\n\nFor more information vis
 it https://bowesandbounds.org/events/public-meeting-clean-air-for-enfi
 eld
DTSTART;TZID=Europe/London:20170112T193000
DTEND;TZID=Europe/London:20170112T213000
CATEGORIES:"public meeting"
LOCATION:Bowes School
WEBSITE:
URL:
CONTACT:
ORGANIZER;CN="Richard McKeever":https://bowesandbounds.org/profile/3hw
 xkqhdde8gc
ATTACH;FMTTYPE="image/jpeg":http://storage.ning.com/topology/rest/1.0/
 file/get/2287316303?profile=original
ATTENDEE;ROLE=REQ-PARTICIPANT;PARTSTAT=ACCEPTED;RSVP=TRUE;CN="Richard 
 McKeever":https://bowesandbounds.org/profile/3hwxkqhdde8gc
END:VEVENT
END:VCALENDAR
