BEGIN:VCALENDAR
PRODID:NingEventWidget-v1
VERSION:2.0
METHOD:PUBLISH
BEGIN:VTIMEZONE
TZID:Europe/London
X-LIC-LOCATION:Europe/London
BEGIN:DAYLIGHT
TZOFFSETFROM:+0000
TZOFFSETTO:+0100
TZNAME:BST
DTSTART:19700329T010000
RRULE:FREQ=YEARLY;BYMONTH=3;BYDAY=-1SU
END:DAYLIGHT
BEGIN:STANDARD
TZOFFSETFROM:+0100
TZOFFSETTO:+0000
TZNAME:GMT
DTSTART:19701025T020000
RRULE:FREQ=YEARLY;BYMONTH=10;BYDAY=-1SU
END:STANDARD
END:VTIMEZONE
BEGIN:VEVENT
UID:6278630:Event:54865
DTSTAMP:20260419T151838Z
SUMMARY:Public Meeting with MP David Burrowes
DESCRIPTION:Enfield Southgate MP David Burrowes is hosting a public me
 eting on 13th March at 8pm at The Sanctuary, Trinity at Bowes Communit
 y Centre.\nThis meeting will be looking at several issues including sc
 hool places and the developments along the North Circular Road. Repres
 entatives from Transport for London, Notting Hill Housing Trust and En
 field Council will be in attendance. Do please come along if you are i
 nterested and able to do so.\n\nContact Your MP Write: David Burrowes 
 MP,  Sir Anthony Berry House,  1C Chaseville Parade,  Chaseville Park 
 Road,  LONDON, N21 1PG Constituency office: 0208 360 0234  Westminster
  Office: 0207 219 5414 Email:david@davidburrowes.com Twitter: @davidbu
 rrowesmp\n\nFor more information visit https://bowesandbounds.org/even
 ts/public-meeting-with-mp-david-burrowes
DTSTART;TZID=Europe/London:20130313T200000
DTEND;TZID=Europe/London:20130313T213000
CATEGORIES:public, meeting
LOCATION:TAB Centre, Trinity-at-Bowes Methodist Church, Pamerston Road
 , N22 8RA
WEBSITE:http://www.davidburrowes.com/
URL:http://www.davidburrowes.com/
CONTACT:
ORGANIZER;CN=Administrator:https://bowesandbounds.org/profile/Administ
 rator
ATTACH;FMTTYPE="image/jpeg":http://storage.ning.com/topology/rest/1.0/
 file/get/2287225503?profile=original
ATTENDEE;ROLE=REQ-PARTICIPANT;PARTSTAT=ACCEPTED;RSVP=TRUE;CN="Laura Da
 venport":https://bowesandbounds.org/profile/LauraDavenport
ATTENDEE;ROLE=REQ-PARTICIPANT;PARTSTAT=ACCEPTED;RSVP=TRUE;CN=Administr
 ator:https://bowesandbounds.org/profile/Administrator
END:VEVENT
END:VCALENDAR
