BEGIN:VCALENDAR
PRODID:NingEventWidget-v1
VERSION:2.0
METHOD:PUBLISH
BEGIN:VTIMEZONE
TZID:Europe/London
X-LIC-LOCATION:Europe/London
BEGIN:DAYLIGHT
TZOFFSETFROM:+0000
TZOFFSETTO:+0100
TZNAME:BST
DTSTART:19700329T010000
RRULE:FREQ=YEARLY;BYMONTH=3;BYDAY=-1SU
END:DAYLIGHT
BEGIN:STANDARD
TZOFFSETFROM:+0100
TZOFFSETTO:+0000
TZNAME:GMT
DTSTART:19701025T020000
RRULE:FREQ=YEARLY;BYMONTH=10;BYDAY=-1SU
END:STANDARD
END:VTIMEZONE
BEGIN:VEVENT
UID:6278630:Event:49549
DTSTAMP:20260422T230154Z
SUMMARY:Quiz Night at Heartlands
DESCRIPTION:This Friday\n9th November 2012\n£5 per person\nDrinks and
  snacks available\nCome and support our fabulous brand new community s
 chool (and have some fun at the same time).\nThe car park will be avai
 lableQUIZNOV12.pdf\n\n\nFor more information visit https://bowesandbou
 nds.org/events/quiz-night-at-heartlands
DTSTART;TZID=Europe/London:20121109T183000
DTEND;TZID=Europe/London:20121109T213000
CATEGORIES:community, school, fundraiser
LOCATION:Heartlands High School
WEBSITE:http://www.heartlands.haringey.sch.uk/news/?pid=5&nid=2
URL:http://www.heartlands.haringey.sch.uk/news/?pid=5&nid=2
CONTACT:
ORGANIZER;CN="Susan Cole":https://bowesandbounds.org/profile/SusanCole
ATTACH;FMTTYPE="image/jpeg":
ATTENDEE;ROLE=REQ-PARTICIPANT;PARTSTAT=ACCEPTED;RSVP=TRUE;CN="Susan Co
 le":https://bowesandbounds.org/profile/SusanCole
END:VEVENT
END:VCALENDAR
