BEGIN:VCALENDAR
PRODID:NingEventWidget-v1
VERSION:2.0
METHOD:PUBLISH
BEGIN:VTIMEZONE
TZID:Europe/London
X-LIC-LOCATION:Europe/London
BEGIN:DAYLIGHT
TZOFFSETFROM:+0000
TZOFFSETTO:+0100
TZNAME:BST
DTSTART:19700329T010000
RRULE:FREQ=YEARLY;BYMONTH=3;BYDAY=-1SU
END:DAYLIGHT
BEGIN:STANDARD
TZOFFSETFROM:+0100
TZOFFSETTO:+0000
TZNAME:GMT
DTSTART:19701025T020000
RRULE:FREQ=YEARLY;BYMONTH=10;BYDAY=-1SU
END:STANDARD
END:VTIMEZONE
BEGIN:VEVENT
UID:6278630:Event:125637
DTSTAMP:20260426T010045Z
SUMMARY:Quiz Night for Action for Children
DESCRIPTION:How Action for Children works\nFrom before they are born u
 ntil they are into their twenties, we help disadvantaged children acro
 ss the UK.\nWe help them through fostering or adoption – and by inte
 rvening early to stop neglect and abuse. We make life better for child
 ren with disabilities. We influence policy and advocate for change. Ou
 r 7,000 staff and volunteers operate over 600 services, improving the 
 lives of 370,000 children, teenagers, parents and carers every year. W
 e succeed by doing what’s right, doing what’s needed, and doing wh
 at works for children.\n\n\n\n\n\nFor more information visit https://b
 owesandbounds.org/events/quiz-night-for-action-for-children
DTSTART;TZID=Europe/London:20171014T190000
DTEND;TZID=Europe/London:20171014T220000
CATEGORIES:charity, quiz
LOCATION:Southgate Methodist Church
WEBSITE:
URL:
CONTACT:
ORGANIZER;CN="Donald Smith":https://bowesandbounds.org/profile/DonaldS
 mith
ATTACH;FMTTYPE="image/jpeg":
ATTENDEE;ROLE=REQ-PARTICIPANT;PARTSTAT=ACCEPTED;RSVP=TRUE;CN="Donald S
 mith":https://bowesandbounds.org/profile/DonaldSmith
END:VEVENT
END:VCALENDAR
