BEGIN:VCALENDAR
PRODID:NingEventWidget-v1
VERSION:2.0
METHOD:PUBLISH
BEGIN:VTIMEZONE
TZID:Europe/London
X-LIC-LOCATION:Europe/London
BEGIN:DAYLIGHT
TZOFFSETFROM:+0000
TZOFFSETTO:+0100
TZNAME:BST
DTSTART:19700329T010000
RRULE:FREQ=YEARLY;BYMONTH=3;BYDAY=-1SU
END:DAYLIGHT
BEGIN:STANDARD
TZOFFSETFROM:+0100
TZOFFSETTO:+0000
TZNAME:GMT
DTSTART:19701025T020000
RRULE:FREQ=YEARLY;BYMONTH=10;BYDAY=-1SU
END:STANDARD
END:VTIMEZONE
BEGIN:VEVENT
UID:6278630:Event:71841
DTSTAMP:20260422T013724Z
SUMMARY:Quizzy Rascal Quiz Night
DESCRIPTION:FIRST QUIZ OF THE YEAR FOLKS!\nThe Quizzy Rascal will be q
 uizzing the good people of Bowes Park and beyond again tonight and on 
 every other Wednesday, with the first question promptly at 8pm.\n£2 p
 er person and there is money to be won. That’s right, real money. Ma
 ximum of six people per team. Turn up on the night or book a table, it
 ’s up to you.\nThe rounds are quick fire, so get ready for short bur
 sts of concentration… we’ve heard that Meantime London Lager can i
 mprove your brain power* so there will be plenty of time between quest
 ions for imbibing.\n*Not supported by scientific evidence but maybe th
 e winning team will prove the theory.\n\nFor more information visit ht
 tps://bowesandbounds.org/events/quizzy-rascal-quiz-night-12
DTSTART;TZID=Europe/London:20140129T194500
DTEND;TZID=Europe/London:20140129T230000
CATEGORIES:quiz, social
LOCATION:The Step
WEBSITE:http://www.thestep.co.uk
URL:http://www.thestep.co.uk
CONTACT:020 3302 2412
ORGANIZER;CN="Nell Riches":https://bowesandbounds.org/profile/NellRich
 es
ATTACH;FMTTYPE="image/jpeg":http://storage.ning.com/topology/rest/1.0/
 file/get/2287241524?profile=original
ATTENDEE;ROLE=REQ-PARTICIPANT;PARTSTAT=ACCEPTED;RSVP=TRUE;CN="Nell Ric
 hes":https://bowesandbounds.org/profile/NellRiches
END:VEVENT
END:VCALENDAR
