BEGIN:VCALENDAR
PRODID:NingEventWidget-v1
VERSION:2.0
METHOD:PUBLISH
BEGIN:VTIMEZONE
TZID:Europe/London
X-LIC-LOCATION:Europe/London
BEGIN:DAYLIGHT
TZOFFSETFROM:+0000
TZOFFSETTO:+0100
TZNAME:BST
DTSTART:19700329T010000
RRULE:FREQ=YEARLY;BYMONTH=3;BYDAY=-1SU
END:DAYLIGHT
BEGIN:STANDARD
TZOFFSETFROM:+0100
TZOFFSETTO:+0000
TZNAME:GMT
DTSTART:19701025T020000
RRULE:FREQ=YEARLY;BYMONTH=10;BYDAY=-1SU
END:STANDARD
END:VTIMEZONE
BEGIN:VEVENT
UID:6278630:Event:251129
DTSTAMP:20260421T094244Z
SUMMARY:Refugee Week Celebration: Community as a Superpower
DESCRIPTION:The event is a celebration of the remarkable Haringey resi
 dents with experiences of forced migration.\nAs Windrush Day falls wit
 hin Refugee Week, it will also mark those affected by the Windrush Sca
 ndal.\nThere will be free activities, entertainment, games, music and 
 food! Community partners will also be showcasing the amazing support a
 nd services they offer to Haringey residents.\nThe event is free and o
 pen to everyone – join us to celebrate the power of community!\n\nFo
 r more information visit https://bowesandbounds.org/events/refugee-wee
 k-celebration-community-as-a-superpower
DTSTART;TZID=Europe/London:20250618T140000
DTEND;TZID=Europe/London:20250618T190000
CATEGORIES:refugees, community, free
LOCATION:Muswell Hill Methodist Church
WEBSITE:https://mhmc.org.uk/
URL:https://mhmc.org.uk/
CONTACT:020 8365 2466
ORGANIZER;CN="Penny Woods":https://bowesandbounds.org/profile/PennyWoo
 ds
ATTACH;FMTTYPE="image/jpeg":https://storage.ning.com/topology/rest/1.0
 /file/get/13590454286?profile=original
ATTENDEE;ROLE=REQ-PARTICIPANT;PARTSTAT=ACCEPTED;RSVP=TRUE;CN="Penny Wo
 ods":https://bowesandbounds.org/profile/PennyWoods
END:VEVENT
END:VCALENDAR
