BEGIN:VCALENDAR
PRODID:NingEventWidget-v1
VERSION:2.0
METHOD:PUBLISH
BEGIN:VTIMEZONE
TZID:Europe/London
X-LIC-LOCATION:Europe/London
BEGIN:DAYLIGHT
TZOFFSETFROM:+0000
TZOFFSETTO:+0100
TZNAME:BST
DTSTART:19700329T010000
RRULE:FREQ=YEARLY;BYMONTH=3;BYDAY=-1SU
END:DAYLIGHT
BEGIN:STANDARD
TZOFFSETFROM:+0100
TZOFFSETTO:+0000
TZNAME:GMT
DTSTART:19701025T020000
RRULE:FREQ=YEARLY;BYMONTH=10;BYDAY=-1SU
END:STANDARD
END:VTIMEZONE
BEGIN:VEVENT
UID:6278630:Event:103229
DTSTAMP:20260423T150656Z
SUMMARY:REMEMBRANCE DAY PARADE 2015
DESCRIPTION:REMEMBRANCE DAY PARADE 2015\n\n\nThe Enfield Citadel Salva
 tion Army Band will be taking part in the Enfield Remembrance Day Para
 de, culminating in the service of Remembrance at the Enfield War Memor
 ial at the junction of Chase Side and Windmill Hill\n\n\nFor more info
 rmation visit https://bowesandbounds.org/events/remembrance-day-parade
 -2015
DTSTART;TZID=Europe/London:20151108T141500
DTEND;TZID=Europe/London:20151108T160000
CATEGORIES:remembrance, day, parade
LOCATION:Enfield War Memorial
WEBSITE:
URL:
CONTACT:
ORGANIZER;CN="Donald Smith":https://bowesandbounds.org/profile/DonaldS
 mith
ATTACH;FMTTYPE="image/jpeg":http://storage.ning.com/topology/rest/1.0/
 file/get/2287299081?profile=original
ATTENDEE;ROLE=REQ-PARTICIPANT;PARTSTAT=ACCEPTED;RSVP=TRUE;CN="Donald S
 mith":https://bowesandbounds.org/profile/DonaldSmith
END:VEVENT
END:VCALENDAR
