BEGIN:VCALENDAR
PRODID:NingEventWidget-v1
VERSION:2.0
METHOD:PUBLISH
BEGIN:VTIMEZONE
TZID:Europe/London
X-LIC-LOCATION:Europe/London
BEGIN:DAYLIGHT
TZOFFSETFROM:+0000
TZOFFSETTO:+0100
TZNAME:BST
DTSTART:19700329T010000
RRULE:FREQ=YEARLY;BYMONTH=3;BYDAY=-1SU
END:DAYLIGHT
BEGIN:STANDARD
TZOFFSETFROM:+0100
TZOFFSETTO:+0000
TZNAME:GMT
DTSTART:19701025T020000
RRULE:FREQ=YEARLY;BYMONTH=10;BYDAY=-1SU
END:STANDARD
END:VTIMEZONE
BEGIN:VEVENT
UID:6278630:Event:49488
DTSTAMP:20260423T015736Z
SUMMARY:Remembrance Sunday service
DESCRIPTION:A service of remembrance to honour Britain's war dead, wil
 l be held at Wood Green War Memorial, High Road, N22 opposite the Hari
 ngey Civic Centre.\nThe Mayor of Haringey, Cllr Bernice Vanier, will j
 oin the service which will begin at 10.45am and a minute's silence wil
 l be observed at 11am.\n\nFor more information visit https://bowesandb
 ounds.org/events/remembrance-sunday-service-1
DTSTART;TZID=Europe/London:20121111T104500
DTEND;TZID=Europe/London:20121111T231500
CATEGORIES:remembrance
LOCATION:Wood Green War Memorial
WEBSITE:https://maps.google.co.uk/maps?q=Civic+Centre,+High+Road,+Wood
 +Green+N22+8LE&ll=51.62228,-0.140076&spn=0.11233,0.308647&hq=Civic+Cen
 tre,&hnear=High+Rd&t=m&z=12&iwloc=A
URL:https://maps.google.co.uk/maps?q=Civic+Centre,+High+Road,+Wood+Gre
 en+N22+8LE&ll=51.62228,-0.140076&spn=0.11233,0.308647&hq=Civic+Centre,
 &hnear=High+Rd&t=m&z=12&iwloc=A
CONTACT:
ORGANIZER;CN=Administrator:https://bowesandbounds.org/profile/Administ
 rator
ATTACH;FMTTYPE="image/jpeg":http://storage.ning.com/topology/rest/1.0/
 file/get/2287239026?profile=original
ATTENDEE;ROLE=REQ-PARTICIPANT;PARTSTAT=ACCEPTED;RSVP=TRUE;CN=Administr
 ator:https://bowesandbounds.org/profile/Administrator
END:VEVENT
END:VCALENDAR
