BEGIN:VCALENDAR
PRODID:NingEventWidget-v1
VERSION:2.0
METHOD:PUBLISH
BEGIN:VTIMEZONE
TZID:Europe/London
X-LIC-LOCATION:Europe/London
BEGIN:DAYLIGHT
TZOFFSETFROM:+0000
TZOFFSETTO:+0100
TZNAME:BST
DTSTART:19700329T010000
RRULE:FREQ=YEARLY;BYMONTH=3;BYDAY=-1SU
END:DAYLIGHT
BEGIN:STANDARD
TZOFFSETFROM:+0100
TZOFFSETTO:+0000
TZNAME:GMT
DTSTART:19701025T020000
RRULE:FREQ=YEARLY;BYMONTH=10;BYDAY=-1SU
END:STANDARD
END:VTIMEZONE
BEGIN:VEVENT
UID:6278630:Event:133254
DTSTAMP:20260419T152121Z
SUMMARY:Remembrance Sunday Service at St Michael at Bowes
DESCRIPTION:Dear Friends, \n\nGreetings! \n\nIt happened to be that 
 I had my first sermon preached in England was on a Remembrance Day in 
 2006 in Oxford as an ordinand. It was a moving experience for me since
  I come from Turkey, and as you know that Turkey (Ottomans) and United
  Kingdom were other side of the war, where they had very bloody battle
 s like Gelibolu. As one who is Christian, I always find the issue of w
 ar and just war very challenging. Of course, this year we are remember
 ing 100th anniversary of ending Fist World War and I would like to inv
 ite you to pray and reflect with me on Sunday at 1100 at St Michael at
  Bowes church. \n\n\n\nFor more information visit https://bowesandbou
 nds.org/events/remembrance-sunday-service-at-st-michael-at-bowes
DTSTART;TZID=Europe/London:20181111T104500
DTEND;TZID=Europe/London:20181111T121500
CATEGORIES:remembrance, day, service
LOCATION:103 Palmerston Road N22 8QX
WEBSITE:
URL:
CONTACT:07908335400
ORGANIZER;CN="Revd Engin YILDIRIM":https://bowesandbounds.org/profile/
 RevdEnginYILDIRIM
ATTACH;FMTTYPE="image/jpeg":http://storage.ning.com/topology/rest/1.0/
 file/get/2287329883?profile=original
ATTENDEE;ROLE=REQ-PARTICIPANT;PARTSTAT=ACCEPTED;RSVP=TRUE;CN="Revd Eng
 in YILDIRIM":https://bowesandbounds.org/profile/RevdEnginYILDIRIM
END:VEVENT
END:VCALENDAR
