BEGIN:VCALENDAR
PRODID:NingEventWidget-v1
VERSION:2.0
METHOD:PUBLISH
BEGIN:VTIMEZONE
TZID:Europe/London
X-LIC-LOCATION:Europe/London
BEGIN:DAYLIGHT
TZOFFSETFROM:+0000
TZOFFSETTO:+0100
TZNAME:BST
DTSTART:19700329T010000
RRULE:FREQ=YEARLY;BYMONTH=3;BYDAY=-1SU
END:DAYLIGHT
BEGIN:STANDARD
TZOFFSETFROM:+0100
TZOFFSETTO:+0000
TZNAME:GMT
DTSTART:19701025T020000
RRULE:FREQ=YEARLY;BYMONTH=10;BYDAY=-1SU
END:STANDARD
END:VTIMEZONE
BEGIN:VEVENT
UID:6278630:Event:126800
DTSTAMP:20260420T022507Z
SUMMARY:Reminiscence Cafe: Carnival!
DESCRIPTION:Come along to our monthly reminiscence café and enjoy the
  memories over a cup of tea ....Colourful and exciting, 'carnival' goe
 s back a long way and crosses many continents. Tottenham’s earliest 
 carnival was in aid of the Prince of Wales Hospital, and flourished be
 fore the First World War. We have had many carnival appearances since 
 then, in different past boroughs in our area, as well as the more famo
 us international one in Notting Hill. Carnival was a time for dressing
  up – fancy dress, colourful costumes, or our best gear if we were n
 ot in the parade, and to have a great time. Were you ever in the parad
 e? What do you remember about the costumes, the music, the entertainme
 nt and the floats? All welcome. Bring photos if you have them.\n\nFor 
 more information visit https://bowesandbounds.org/events/reminiscence-
 cafe-carnival
DTSTART;TZID=Europe/London:20171017T140000
DTEND;TZID=Europe/London:20171017T160000
CATEGORIES:reminiscence, older, people, local, history, carnival, blac
 k
LOCATION:Bruce Castle Museum
WEBSITE:http://www.haringey.gov.uk/brucecastlemuseum
URL:http://www.haringey.gov.uk/brucecastlemuseum
CONTACT:020 8808 8772
ORGANIZER;CN="Deborah Hedgecock":https://bowesandbounds.org/profile/De
 borahHedgecock
ATTACH;FMTTYPE="image/jpeg":http://storage.ning.com/topology/rest/1.0/
 file/get/2287321458?profile=original
ATTENDEE;ROLE=REQ-PARTICIPANT;PARTSTAT=ACCEPTED;RSVP=TRUE;CN="Deborah 
 Hedgecock":https://bowesandbounds.org/profile/DeborahHedgecock
END:VEVENT
END:VCALENDAR
