BEGIN:VCALENDAR
PRODID:NingEventWidget-v1
VERSION:2.0
METHOD:PUBLISH
BEGIN:VTIMEZONE
TZID:Europe/London
X-LIC-LOCATION:Europe/London
BEGIN:DAYLIGHT
TZOFFSETFROM:+0000
TZOFFSETTO:+0100
TZNAME:BST
DTSTART:19700329T010000
RRULE:FREQ=YEARLY;BYMONTH=3;BYDAY=-1SU
END:DAYLIGHT
BEGIN:STANDARD
TZOFFSETFROM:+0100
TZOFFSETTO:+0000
TZNAME:GMT
DTSTART:19701025T020000
RRULE:FREQ=YEARLY;BYMONTH=10;BYDAY=-1SU
END:STANDARD
END:VTIMEZONE
BEGIN:VEVENT
UID:6278630:Event:250821
DTSTAMP:20260421T220157Z
SUMMARY:REVOLUTION fundraiser for Collage Voices
DESCRIPTION:\nStars of stage and screen come together in support of Co
 llage Voices. Hosted by Ché Walker. Do not miss it!\nTickets £20. We
  offer a concession price for those who need it, please email voices@c
 ollage-arts.org\nLine up: - Ako Mitchell - DJ Dub - Dorian Ford and Ma
 o Yamada - Ezra Escobar - Martina Laird - Nardia Ruth - Otis Cameron C
 arr - Rakie Ayola - Renée Castle - Rocio Rodriguez-Inniss and Kathryn
  Reed - Ronald Samm - Uchenna Ngwe - Vimala - Yebbz Ashanti\n\nTickets
  £20\n\nFor more information visit https://bowesandbounds.org/events/
 revolution-fundraiser-for-collage-voices
DTSTART;TZID=Europe/London:20250629T183000
DTEND;TZID=Europe/London:20250629T220000
CATEGORIES:jazz, veganvenue, veganfood, livemusic, worldmusic
LOCATION:karamel, 4 Coburg Road, Wood Green, London N22 6UJ
WEBSITE:https://www.musicglue.com/karamel/events/2025-06-29-revolution
 -fundraiser-for-collage-voices-karamel
URL:https://www.musicglue.com/karamel/events/2025-06-29-revolution-fun
 draiser-for-collage-voices-karamel
CONTACT:
ORGANIZER;CN="Collage Artspaces":https://bowesandbounds.org/profile/Co
 llage_Arts
ATTACH;FMTTYPE="image/jpeg":https://storage.ning.com/topology/rest/1.0
 /file/get/13564559881?profile=original
ATTENDEE;ROLE=REQ-PARTICIPANT;PARTSTAT=ACCEPTED;RSVP=TRUE;CN="Collage 
 Artspaces":https://bowesandbounds.org/profile/Collage_Arts
END:VEVENT
END:VCALENDAR
