BEGIN:VCALENDAR
PRODID:NingEventWidget-v1
VERSION:2.0
METHOD:PUBLISH
BEGIN:VTIMEZONE
TZID:Europe/London
X-LIC-LOCATION:Europe/London
BEGIN:DAYLIGHT
TZOFFSETFROM:+0000
TZOFFSETTO:+0100
TZNAME:BST
DTSTART:19700329T010000
RRULE:FREQ=YEARLY;BYMONTH=3;BYDAY=-1SU
END:DAYLIGHT
BEGIN:STANDARD
TZOFFSETFROM:+0100
TZOFFSETTO:+0000
TZNAME:GMT
DTSTART:19701025T020000
RRULE:FREQ=YEARLY;BYMONTH=10;BYDAY=-1SU
END:STANDARD
END:VTIMEZONE
BEGIN:VEVENT
UID:6278630:Event:132753
DTSTAMP:20260424T133955Z
SUMMARY:Rhodes Avenue Jumble Sale
DESCRIPTION:Fabulous bargains and delicious cafe. \nTomorrow from 1 t
 il 4. \nEntry £1\n\n\nFor more information visit https://bowesandbou
 nds.org/events/rhodes-avenue-jumble-sale-3
DTSTART;TZID=Europe/London:20181013T130000
DTEND;TZID=Europe/London:20181013T160000
CATEGORIES:fundraiser
LOCATION:Rhodes Avenue School
WEBSITE:
URL:
CONTACT:
ORGANIZER;CN="Sheena Patel":https://bowesandbounds.org/profile/SheenaP
 atel
ATTACH;FMTTYPE="image/jpeg":
ATTENDEE;ROLE=REQ-PARTICIPANT;PARTSTAT=ACCEPTED;RSVP=TRUE;CN="Sheena P
 atel":https://bowesandbounds.org/profile/SheenaPatel
END:VEVENT
END:VCALENDAR
