BEGIN:VCALENDAR
PRODID:NingEventWidget-v1
VERSION:2.0
METHOD:PUBLISH
BEGIN:VTIMEZONE
TZID:Europe/London
X-LIC-LOCATION:Europe/London
BEGIN:DAYLIGHT
TZOFFSETFROM:+0000
TZOFFSETTO:+0100
TZNAME:BST
DTSTART:19700329T010000
RRULE:FREQ=YEARLY;BYMONTH=3;BYDAY=-1SU
END:DAYLIGHT
BEGIN:STANDARD
TZOFFSETFROM:+0100
TZOFFSETTO:+0000
TZNAME:GMT
DTSTART:19701025T020000
RRULE:FREQ=YEARLY;BYMONTH=10;BYDAY=-1SU
END:STANDARD
END:VTIMEZONE
BEGIN:VEVENT
UID:6278630:Event:109754
DTSTAMP:20260419T133533Z
SUMMARY:Rhodes Avenue Primary School JUMBLE SALE
DESCRIPTION:Rhodes Avenue Spring Jumble SaleMany Quality Items and Sec
 ond Hand GoodsStreet Parking. Bus Routes 102, 299 and 184\nAdmission Â
 £1. ( Children FREE)\n\nFor more information visit https://bowesandbou
 nds.org/events/rhodes-avenue-primary-school-jumble-sale-1
DTSTART;TZID=Europe/London:20160423T130000
DTEND;TZID=Europe/London:20160423T160000
CATEGORIES:jumble, sale
LOCATION:Rhodes Avenue Primary School
WEBSITE:
URL:
CONTACT:
ORGANIZER;CN="LAURA COMPTON-BISHOP":https://bowesandbounds.org/profile
 /LAURACOMPTONBISHOP
ATTACH;FMTTYPE="image/jpeg":http://storage.ning.com/topology/rest/1.0/
 file/get/2287312289?profile=original
ATTENDEE;ROLE=REQ-PARTICIPANT;PARTSTAT=ACCEPTED;RSVP=TRUE;CN="LAURA CO
 MPTON-BISHOP":https://bowesandbounds.org/profile/LAURACOMPTONBISHOP
END:VEVENT
END:VCALENDAR
