BEGIN:VCALENDAR
PRODID:NingEventWidget-v1
VERSION:2.0
METHOD:PUBLISH
BEGIN:VTIMEZONE
TZID:Europe/London
X-LIC-LOCATION:Europe/London
BEGIN:DAYLIGHT
TZOFFSETFROM:+0000
TZOFFSETTO:+0100
TZNAME:BST
DTSTART:19700329T010000
RRULE:FREQ=YEARLY;BYMONTH=3;BYDAY=-1SU
END:DAYLIGHT
BEGIN:STANDARD
TZOFFSETFROM:+0100
TZOFFSETTO:+0000
TZNAME:GMT
DTSTART:19701025T020000
RRULE:FREQ=YEARLY;BYMONTH=10;BYDAY=-1SU
END:STANDARD
END:VTIMEZONE
BEGIN:VEVENT
UID:6278630:Event:87270
DTSTAMP:20260426T023716Z
SUMMARY:Rhodes Avenue School Christmas Fair
DESCRIPTION:\n\nFor more information visit https://bowesandbounds.org/
 events/rhodes-avenue-school-christmas-fair
DTSTART;TZID=Europe/London:20141206T140000
DTEND;TZID=Europe/London:20141206T170000
CATEGORIES:"christmas fair", bazaar
LOCATION:Rhodes Avenue Primary School
WEBSITE:
URL:
CONTACT:
ORGANIZER:http://www.rhodes.haringey.sch.uk/FeatureDetail/EventDetail.
 aspx?EventId=296&recurring=False&PageId=1&FeatureId=8&CalendarId=8
ATTACH;FMTTYPE="image/jpeg":http://storage.ning.com/topology/rest/1.0/
 file/get/2287277713?profile=original
ATTENDEE;ROLE=REQ-PARTICIPANT;PARTSTAT=ACCEPTED;RSVP=TRUE;CN=Administr
 ator:https://bowesandbounds.org/profile/Administrator
END:VEVENT
END:VCALENDAR
