BEGIN:VCALENDAR
PRODID:NingEventWidget-v1
VERSION:2.0
METHOD:PUBLISH
BEGIN:VTIMEZONE
TZID:Europe/London
X-LIC-LOCATION:Europe/London
BEGIN:DAYLIGHT
TZOFFSETFROM:+0000
TZOFFSETTO:+0100
TZNAME:BST
DTSTART:19700329T010000
RRULE:FREQ=YEARLY;BYMONTH=3;BYDAY=-1SU
END:DAYLIGHT
BEGIN:STANDARD
TZOFFSETFROM:+0100
TZOFFSETTO:+0000
TZNAME:GMT
DTSTART:19701025T020000
RRULE:FREQ=YEARLY;BYMONTH=10;BYDAY=-1SU
END:STANDARD
END:VTIMEZONE
BEGIN:VEVENT
UID:6278630:Event:241207
DTSTAMP:20260421T101342Z
SUMMARY:Rob Thom Band playing in the Grove
DESCRIPTION:Friends of Alexandra Park presents....\nIn a change from b
 rass and wind bands, this week we will be entertained in the Grove by 
 the Rob Thom Band. (by The Grove Cafe)The Rob Thom Band consists of si
 nger-songwriters, Jo Griggs, Tom Poslett and Rob Thom, who all met on 
 the London open mic scene. They will be performing original acoustic m
 usic, a few covers, and new arrangements of traditional folk songs.Bri
 ng something to sit on and your favourite refreshments.And of course, 
 like all the Friends' activities, the concert is free.\n\nFor more inf
 ormation visit https://bowesandbounds.org/events/rob-thom-band-playing
 -in-the-grove
DTSTART;TZID=Europe/London:20220807T140000
DTEND;TZID=Europe/London:20220807T160000
CATEGORIES:music, band, folk
LOCATION:Alexandra Park
WEBSITE:http://www.friendsofalexandrapark.org
URL:http://www.friendsofalexandrapark.org
CONTACT:
ORGANIZER;CN="Stephen Middleton":https://bowesandbounds.org/profile/St
 ephenMiddleton
ATTACH;FMTTYPE="image/jpeg":https://storage.ning.com/topology/rest/1.0
 /file/get/10747548860?profile=original
ATTENDEE;ROLE=REQ-PARTICIPANT;PARTSTAT=ACCEPTED;RSVP=TRUE;CN="Stephen 
 Middleton":https://bowesandbounds.org/profile/StephenMiddleton
END:VEVENT
END:VCALENDAR
