BEGIN:VCALENDAR
PRODID:NingEventWidget-v1
VERSION:2.0
METHOD:PUBLISH
BEGIN:VTIMEZONE
TZID:Europe/London
X-LIC-LOCATION:Europe/London
BEGIN:DAYLIGHT
TZOFFSETFROM:+0000
TZOFFSETTO:+0100
TZNAME:BST
DTSTART:19700329T010000
RRULE:FREQ=YEARLY;BYMONTH=3;BYDAY=-1SU
END:DAYLIGHT
BEGIN:STANDARD
TZOFFSETFROM:+0100
TZOFFSETTO:+0000
TZNAME:GMT
DTSTART:19701025T020000
RRULE:FREQ=YEARLY;BYMONTH=10;BYDAY=-1SU
END:STANDARD
END:VTIMEZONE
BEGIN:VEVENT
UID:6278630:Event:22614
DTSTAMP:20260420T221336Z
SUMMARY:Russell Road street party
DESCRIPTION:It's the 4th annual Russell Road street party / community 
 day on on Sunday 4th September  from 11.00am to 3.00pm.\n\nThis will 
 be an opportunity for local people to socialise and get to know each o
 ther better whilst strengthening community ties. The days free attract
 ions will include a face painting, a tea cup ride, bouncy castle and l
 ive Gospel and Soca music from Sean Daniels . \nFood and soft drinks 
 will be available at the event.\n\nFor more information visit https://
 bowesandbounds.org/events/russell-road-street-party
DTSTART;TZID=Europe/London:20110904T110000
DTEND;TZID=Europe/London:20110904T150000
CATEGORIES:"street party"
LOCATION:\"Russell Road\"
WEBSITE:http://maps.google.co.uk/maps?hl=en&safe=off&client=firefox-a&
 hs=fYf&rls=org.mozilla:en-GB:official&q=russell%20road%20n13&gs_sm=s&g
 s_upl=23318l24876l0l27318l3l3l0l2l0l0l144l144l0.1l1l0&bav=on.2,or.r_gc
 .r_pw.&biw=1024&bih=605&ie=UTF-8&sa=N&tab=il
URL:http://maps.google.co.uk/maps?hl=en&safe=off&client=firefox-a&hs=f
 Yf&rls=org.mozilla:en-GB:official&q=russell%20road%20n13&gs_sm=s&gs_up
 l=23318l24876l0l27318l3l3l0l2l0l0l144l144l0.1l1l0&bav=on.2,or.r_gc.r_p
 w.&biw=1024&bih=605&ie=UTF-8&sa=N&tab=il
CONTACT:
ORGANIZER;CN=Administrator:https://bowesandbounds.org/profile/Administ
 rator
ATTACH;FMTTYPE="image/jpeg":http://storage.ning.com/topology/rest/1.0/
 file/get/2287225687?profile=original
ATTENDEE;ROLE=REQ-PARTICIPANT;PARTSTAT=ACCEPTED;RSVP=TRUE;CN="Debbie C
 oates":https://bowesandbounds.org/profile/DebbieCoates
ATTENDEE;ROLE=REQ-PARTICIPANT;PARTSTAT=ACCEPTED;RSVP=TRUE;CN=Administr
 ator:https://bowesandbounds.org/profile/Administrator
END:VEVENT
END:VCALENDAR
