BEGIN:VCALENDAR
PRODID:NingEventWidget-v1
VERSION:2.0
METHOD:PUBLISH
BEGIN:VTIMEZONE
TZID:Europe/London
X-LIC-LOCATION:Europe/London
BEGIN:DAYLIGHT
TZOFFSETFROM:+0000
TZOFFSETTO:+0100
TZNAME:BST
DTSTART:19700329T010000
RRULE:FREQ=YEARLY;BYMONTH=3;BYDAY=-1SU
END:DAYLIGHT
BEGIN:STANDARD
TZOFFSETFROM:+0100
TZOFFSETTO:+0000
TZNAME:GMT
DTSTART:19701025T020000
RRULE:FREQ=YEARLY;BYMONTH=10;BYDAY=-1SU
END:STANDARD
END:VTIMEZONE
BEGIN:VEVENT
UID:6278630:Event:39085
DTSTAMP:20260421T103048Z
SUMMARY:Salisbury House Poets
DESCRIPTION:Salisbury House Poets exist to give a platform to local po
 ets with a chance to try out their work in front of a friendly and sym
 pathetic audience and learn something from the guest poet.\nSaturday M
 ay 5th\nPeter Phillips with Adele Ward\nRegular monthly readings on Sa
 turday Evenings. Events commence at 7.30 p.m. and end about 10.00 with
  an interval for refreshments. Entrance £3.50 Concessions £2.50.\nEv
 ents include “Poets from the Floor”, where members of the audience
  are able to read a poem of their own.\nMore Information\n\nHow to get
  there: 192 bus will stop outside (hail and ride). 329 bus stops at Ri
 dge Avenue Library, then 5–10 minutes' walk.  W8 stops at Ridge Aven
 ue Library, 5–10 minutes' walk.\nNo tube very close but Bush Hill Pa
 rk Railway station is 15–20 minutes’ walk away.\nThere is on-stree
 t parking very close.\n\nFor more information visit https://bowesandbo
 unds.org/events/salisbury-house-poets
DTSTART;TZID=Europe/London:20120505T193000
DTEND;TZID=Europe/London:20120505T220000
CATEGORIES:poetry
LOCATION:Salisbury House Edmonton
WEBSITE:http://maps.google.co.uk/maps?q=Salisbury+House,+Bury+St+W,+En
 field,+London+N9,+United+Kingdom&hl=en&sll=53.098145,-2.443696&sspn=8.
 97939,23.071289&om=1&hnear=Salisbury+House,+Bury+St+W,+London+N9+9LA,+
 United+Kingdom&t=m&z=15
URL:http://maps.google.co.uk/maps?q=Salisbury+House,+Bury+St+W,+Enfiel
 d,+London+N9,+United+Kingdom&hl=en&sll=53.098145,-2.443696&sspn=8.9793
 9,23.071289&om=1&hnear=Salisbury+House,+Bury+St+W,+London+N9+9LA,+Unit
 ed+Kingdom&t=m&z=15
CONTACT:
ORGANIZER;CN=Administrator:https://bowesandbounds.org/profile/Administ
 rator
ATTACH;FMTTYPE="image/jpeg":http://storage.ning.com/topology/rest/1.0/
 file/get/2287231991?profile=original
ATTENDEE;ROLE=REQ-PARTICIPANT;PARTSTAT=ACCEPTED;RSVP=TRUE;CN=Administr
 ator:https://bowesandbounds.org/profile/Administrator
END:VEVENT
END:VCALENDAR
